BEGIN:VCALENDAR
PRODID:-//Microsoft Corporation//Outlook 11.0 MIMEDIR//EN
VERSION:2.0
METHOD:PUBLISH
BEGIN:VEVENT
DTSTART:20240206
LOCATION:Naturhistorisches Museum Basel Augustinergasse 2, 4051 Basel
TRANSP:OPAQUE
RRULE:FREQ=WEEKLY;INTERVAL=1;WKST=MO;BYDAY=MO,TU,WE,TH,FR,SA,SU
UID:998a3286-3a96-4c8b-87ba-e4b5c9d2e470-0
DTSTAMP:20240206T120000
DESCRIPTION:Säbelzahnkatze, Riesenhirsch, Zwergelefant und der Mensch – die Evolution der Säugetiere ist spektakulär. Anhand ausgewählter, seltener Objekte zeigen wir die Säugetiere und ihre Ahnen. Den Höhepunkt dieser Ausstellung bildet unser berühmtes Mammut.\n\nSäugetiere bilden heute rund 8,5% der gesamten Wirbeltier-Biodiversität. Ihre Geschichte reicht mehr als 210 Millionen Jahre zurück bis in die Zeit der Dinosaurier und ihre Evolution zeigt Anpassungen an alle Gegebenheiten der jeweiligen Umwelt. So finden sich fliegende Formen wie Fledermäuse, rein aquatische Gruppen wie Wale oder blinde Arten mit unterirdischen Lebensweisen wie der Goldmull.\n\nDie Ausstellung Mammut & Säbelzahntiger zeigt diese Vielfalt und ihre Evolution. Die Unpaarhufer Pferd, Nashorn und Tapir sind seit rund 50 Millionen Jahren bekannt. Ihre heutige geringe Diversität birgt eine reiche Geschichte. Das ausgestellte Krallentier ist ein eindrücklicher Beleg hierfür.\n\nMit sieben Millionen Jahren ist die menschliche Evolution wesentlich kürzer, aber deshalb nicht weniger atemberaubend. Die wichtigsten Schritte demonstrieren unsere vollplastischen Rekonstruktionen.\n\nRaubtiere sind ihrem Namen zum Trotz nicht durchwegs reine Fleischfresser. Der Pandabär gehört beispielsweise zur Gruppe der Raubtiere, ernährt sich aber fast zu 100% vegetarisch.\n\nDie Vielfalt des Lebens auf unserem Planeten zeigt sich nicht nur in der beinahe unermesslichen Anzahl, sondern auch in den unterschiedlichen Lebensweisen. So war etwa die ausgestellte, längst ausgestorbene Säbelzahnkatze Megantereon ein kräftiger Jäger. Er konnte seine verlängerten Eckzähne nur als Messer für den Todesstoss nutzen, jedoch nicht als Angriffswaffen.\n\nhttps://www.museenbasel.ch/museen/de/agenda/detail/naturhistorisches-museum-basel/mammut-amp-saebelzahntiger-evolution-des-menschen-in-einem-land-vor-unserer-zeit.html\n\nVerfügbarkeit / Datum, Zeit\n6.2.2024 -  \n\n\nDas Angebot im Detail: https://www.guidle.com/angebote/1014779207/mammut__sabelzahntiger_evolution_des_menschen__in_einem_land_vor_unserer_zeit/basel\nQuelle: https://www.myfarm.ch
SUMMARY:Mammut & Säbelzahntiger. Evolution des Menschen – In einem Land vor unserer Zeit
PRIORITY:5
X-MICROSOFT-CDO-IMPORTANCE:1
CLASS:PUBLIC
BEGIN:VALARM
TRIGGER:-P1D
ACTION:DISPLAY
DESCRIPTION:Reminder
END:VALARM
END:VEVENT
END:VCALENDAR