BEGIN:VCALENDAR
PRODID:-//Microsoft Corporation//Outlook 11.0 MIMEDIR//EN
VERSION:2.0
METHOD:PUBLISH
BEGIN:VEVENT
DTSTART:20261121T130000
DTEND:20261121T190000
LOCATION:Hohle Gasse, 6405 Immensee
TRANSP:OPAQUE
SEQUENCE:0
UID:197e18ff-279f-4641-b8fd-c36be2d7a5ea-0
DTSTAMP:20261121T130000
DESCRIPTION:Handwerker- und Adventsmarkt \nIn den letzten Tagen wurde fleissig gebastelt, gebacken, organisiert und vorbereitet, um Ihnen erneut einen stimmungsvollen Markt präsentieren zu können. Rund 30 Ausstellende zeigen und verkaufen vorwiegend Selbstgemachtes.\n\nEin vielfältiges Angebot wartet auf Sie – unter anderem Dekorationen aus Holz, Papier und anderen Materialien, Nützliches aus Wachstuch, Karten, Gewobenes, Gestricktes, feine Guetzli, Adventsgestecke und vieles mehr.\nAuch in diesem Jahr begrüsst ein besonderer Gast mit roter Nase unsere Besucherinnen und Besucher. Für die kleinen Gäste gibt es ab 13.00 Uhr (solange der Vorrat reicht) die Möglichkeit, ein eigenes Lebkuchenherz zu verzieren.\n\n\nhttps://winterzauber.wixsite.com/hohlegasse\n\nVerfügbarkeit / Datum, Zeit\n21.11.2026 13:00 - 19:00\n\nFestwirtschaft ab 12:00 Uhr offen\n\n\nDas Angebot im Detail: https://www.guidle.com/angebote/1122304305/handwerker-_und_adventsmarkt_winterzauber_hohle_gasse/immensee\nQuelle: https://www.myfarm.ch
SUMMARY:Handwerker- und Adventsmarkt „Winterzauber Hohle Gasse“
PRIORITY:5
X-MICROSOFT-CDO-IMPORTANCE:1
CLASS:PUBLIC
BEGIN:VALARM
TRIGGER:-P1D
ACTION:DISPLAY
DESCRIPTION:Reminder
END:VALARM
END:VEVENT
END:VCALENDAR