BEGIN:VCALENDAR
PRODID:-//Microsoft Corporation//Outlook 11.0 MIMEDIR//EN
VERSION:2.0
METHOD:PUBLISH
BEGIN:VEVENT
DTSTART:20260221
LOCATION:Rietbergstrasse 7, 8784 Braunwald
TRANSP:OPAQUE
RRULE:FREQ=WEEKLY;INTERVAL=1;UNTIL=20261101;WKST=MO;BYDAY=MO,TU,WE,TH,FR,SA,SU
UID:c6f7727d-44b7-4a64-8e1b-720f21eacd50-0
DTSTAMP:20260221T120000
DESCRIPTION:<b>Innenbereich</b>\n\nDie Ferienwohnung in Braunwald befindet sich ausserhalb des Dorfes an ruhiger Lage mit Blick auf die schöne Bergwelt. Das Haus steht frei und der Abstand zum nächsten Haus beträgt gut 100 m. Die Wohnung bietet Platz für bis zu 7 Personen und mehr und befindet sich in einem ehemaligen Bauernhaus. Die Wohnung verfügt über vier Schlafzimmer und eine kleine Dusche und ein WC. Sie verfügt über eine charmante Stube mit einer schönen Terrasse, was zum Verweilen einlädt. Die Küche ist mit allen nötigem ausgestattet. (Kochherd mit Backofen, Geschirrspüler, Kühlschrank mit Gefrierfach, Wasserkocher und Kapsel-Kaffeemaschine). Die Wohnung wird mit einem Kachelofen geheizt. Eine Waschmaschine und Tumbler stehen zur gemeinsamen Nutzung zur Verfügung. \nEs hat keinen Fernseher und auch kein WLAN.\n\nDie Wohnung ist ideal für eine Familie oder eine Gruppe von Freunden, die zusammen reisen und die Ruhe und die Natur geniessen wollen\nDer Garten steht allen Gästen zur gemeinsamen Nutzung zur Verfügung und lädt zum Erholen ein.\n\nBraunwald ist autofrei und nur mit der Standseilbahn erreichbar. Die Standseilbahn überwindet in 7 Minuten 600 Höhenmeter und bringt sie auf die autofreie Sonnenterrasse Braunwald. Linthal hat es genügend Parkplätze.\n\nVon der Wohnung aus kann man gemütlich spazieren, die Natur und naheliegenden Bäche bewundern, vom Frühling bis Herbst kann man schöne kleinere und grössere Wanderungen in der Umgebung unternehmen. Die Ferienwohnung ist ideal gelegen für schöne Wandrungen. Die Bergbahnen sind nicht weitentfernt, was Ausflüge in die umliegende Bergwelt leicht macht. Im Winter kann man Skifahren, Schlitteln, Schneeschuhlaufen, Winterwandern, Langlaufen und Schlittschuhlaufen. Bei genügend Schnee können sie mit Skiern bis vor die Haustüre fahren.\nIm Sommer hat es einen Klettersteig, Kinderklettersteig, Seilpark, Familienfeuerstellen, Spielplätze, Zwerg-Bartli-Erlebnisweg etc. Alle Angebote vomfamilienfreundlichen Braunwald findet man unter braunwald.ch. Auch die Ortsmitte mit ihrem Lebensmittelladen ist mit nur 1100 Metern Entfernung bequem zu Fuss erreichbar. \n\nDie Wohnung ist knapp 200 m von unserem Bauernhof entfernt. Im Frühling und im Herbst weiden unsere Kühe mit Glocken auf den Wiesen im Sommer sind sie auf unserer Alp.\n\nZu unserem Hof:\nWir haben ca. 20 Milchkühe und Jungvieh, 6 Ziegen, einen Hund und eine Katze. Die Kühe verbringen den Sommer auf unserer Alp in Braunwald, wo wir feine Alpkäseprodukte herstellen, die wir direkt auf unserem Hof verkaufen: Alpkäse, Alpraclettekäse, im Sommer auch Alpbutter und im Winter Fonduemischungen mit unserem Alpkäse etc. \nDie Wanderung von der Ferienwohnung zu unserer Alp ist auch für Familien gut machbar. Gerne können Sie während der Stallzeit dem Landwirt über die Schulter schauen. \n\nDie Kurtaxe (Gästetaxe) schliesst die kostenlose Benutzung der öffentlichen Verkehrsmittel im Kanton Glarus mit ein (auch Braunwaldbahn).\nVon Braunwaldaus können sie auch Ausflüge machen zum Urnerboden, Klausenpass, Elm, Klöntalersee, Glarus etc.\n\nBitte beachten Sie, dass in dieser Wohnung keine Haustiere erlaubt sind.\n\nBasisinformationen\n- Erlaubte Haustiere: keins\n- Unterkunftstyp: Ferienwohnung\n- befindet sich in: nichts zutreffend\n- Art d. Gebäudes: Doppelhaushälfte\n- Etage, auf der sich das Objekt befindet: EG\n- Gesamtanzahl d. Stockwerke im Gebäude über EG: 3\n- Nichtraucherunterkunft\n- Schlafzimmeranzahl: 4\n- Badezimmeranzahl: 1\n\nTop Merkmale\n- Heizung: teilweise\n- Balkon\n- Terrasse\n- Garten: zur gemeinschaftlichen Nutzung\n- Private PKW-Stellplätze insgesamt für diese Unterkunft: keinen\n\nSchlafen\nSchlafzimmer 1\n- Doppelbett (1,80m Breite)\nSchlafzimmer 13\n- Einzelbett\nSchlafzimmer 5\n- Doppelbett (1,80m Breite)\nSchlafzimmer 9\n- Doppelbett (1,80mBreite)\n\nBadezimmer\nBadezimmer 1\n- Dusche\nSanitäre Einrichtungsgegenstände in der Ferienunterkunft\n- Toilette\n\nKochen/Wohnen\n- Kaffeemaschine: Kapsel-Kaffeemaschine\n- Kühl-/Gefrierschrank: Gefrierfach, Kühlschrank\n- Herd: Elektroherd\n- Backofen\n- Toaster\n- Wasserkocher\n- Spülmaschine\n- Geschirrtücher\n- Größe der Küche: 8 m²\n- Anzahl Esstische: 1\n- Gesamtzahl Sitzplätze: 7\n- Anzahl Wohnzimmer: 1\n- Ofen\n\nEntertainment\n- Radio\n\nHauswirtschaft\n- Waschmaschine: zur gemeinschaftlichen Nutzung im Gebäude\n- Wäschetrockner: zur gemeinschaftlichen Nutzung im Gebäude\n- Staubsauger\n\nAußenbereich\n- Outdoormöbel\n\nUmgebung\n- Aussicht: Berg, Garten, Wald, Wiese\n- nächstgelegene Ortsmitte: 1,1 km\n- Lebensmittelhandel: 1,1 km\n- Bahnhof: 1,1 km\n- Flughafen: 95 m\n- Autobahn: 30 m\n- See: 7,0 km\n- Ski\n- Skischule: 1,0 km\n- Berg-/Seilbahn: 1,0 km\n\nBesonderheiten\n- Ferien auf dem Bauernhof\n- Bauernhaus\n\n<b>Haus/Residenz</b>\n\nArt d. Gebäudes: Doppelhaushälfte.\n\nInklusivleistung: Bei der Buchung dieses Objekts ist eine Rücktrittversicherung enthalten. Dabei handelt es sich um ein Angebot des Reiseveranstalters Interhome. Für dieses Inklusiv-Angebot gelten folgende Bedingungen:\n\nKontakt\ne-domizil - Feriendomizile online\n+41 44 442 29 99\n\nVerfügbarkeit / Datum, Zeit\n21.2.2026 - 1.11.2026 \n\nPreis\nEndreinigung: CHF 150.00\n\nVorverkauf\nhttps://myfarm.holidaybooking.ch/ferienwohnung/3370605/ferienwohnung-rietberg/?partner=116472000000\n\n\nDas Angebot im Detail: https://www.guidle.com/angebote/1168137213/ferienwohnung_rietberg/braunwald\nQuelle: https://www.myfarm.ch
SUMMARY:Ferienwohnung Rietberg
PRIORITY:5
X-MICROSOFT-CDO-IMPORTANCE:1
CLASS:PUBLIC
BEGIN:VALARM
TRIGGER:-P1D
ACTION:DISPLAY
DESCRIPTION:Reminder
END:VALARM
END:VEVENT
END:VCALENDAR