BEGIN:VCALENDAR
PRODID:-//Microsoft Corporation//Outlook 11.0 MIMEDIR//EN
VERSION:2.0
METHOD:PUBLISH
BEGIN:VEVENT
DTSTART:20110101
LOCATION:Moosgasse 8, 3045 Meikirch
TRANSP:OPAQUE
RRULE:FREQ=WEEKLY;INTERVAL=1;WKST=MO;BYDAY=MO,TU,WE,TH,FR,SA,SU
UID:c571072a-d89f-43f0-ba38-bc403e745b95-0
DTSTAMP:20110101T120000
DESCRIPTION:Zu vermieten in neu renoviertem, ehemaligen Stall 2 schöne Doppel und 2 schöne Familienzimmer mit Schlafgalerie. Insgesamt bietet die Unterkunft für bis zu 15 Personen Platz und kann auch als ganzes Haus gemietet werden. Zur gemeinsamen Nutzung stehen 2 grosse Küchen, sowie ein Wohnzimmer mit Sofas und Billardtisch bereit. Der grosszügige Umschwung mit Feuerschale, Töggelikasten und Tischtennistisch ist umgeben von Hühnern, Schafen, Schweinen und Kaninchen.\nAm Abend können unsere Gäste für Franken 40.- ein warmes Bad im Hotpot unter dem Sternenhimmel geniessen, die Sauna benutzen oder einen gemütlichen Spaziergang mit unseren Lamas und Alpakas unternehmen.\nBern liegt nur 20 Autominuten von Bern entfernt, oder Sie nehmen den Bus, welcher halbstündlich fährt. \n\nhttps://www.uelis-stoeckli.ch\n\nKontakt\nUelis-Stoeckli\nAnne Meier\nMoosgasse\n8\n3045 3045 Meikirch\n041763390379\n\nVerfügbarkeit / Datum, Zeit\n1.1.2011 -  \n\nPreis\nDoppelzimmer:\n1 Person 80 CHF / 2 Personen 125 CHF\nFamilienzimmer:\n6 Personen 240 CHF, 5 Personen 210 CHF, 4 Personen 190 CHF, 3 Personen 170 CHF, 2 Personen 140 CHF, 1 Person, 150 CHF\nSuite: 4 Personen 220 CHF, 3 Personen 210 CHF, 2 Personen 200 CHF, 1 Person 190 CHF\n\n\nDas Angebot im Detail: https://www.guidle.com/angebote/1175690835/uelis_stockli_-_schone_gastezimmer_mit_hotpot_und_alpakatrekking/meikirch\nQuelle: https://www.myfarm.ch
SUMMARY:Ueli's Stöckli - Schöne Gästezimmer mit Hotpot und Alpakatrekking
PRIORITY:5
X-MICROSOFT-CDO-IMPORTANCE:1
CLASS:PUBLIC
BEGIN:VALARM
TRIGGER:-P1D
ACTION:DISPLAY
DESCRIPTION:Reminder
END:VALARM
END:VEVENT
END:VCALENDAR