BEGIN:VCALENDAR
PRODID:-//Microsoft Corporation//Outlook 11.0 MIMEDIR//EN
VERSION:2.0
METHOD:PUBLISH
BEGIN:VEVENT
DTSTART:20260829T080000
DTEND:20260829T120000
LOCATION:3860 Meiringen
TRANSP:OPAQUE
SEQUENCE:0
UID:c2c06c95-2883-460b-bde6-64379d3024e1-0
DTSTAMP:20260829T080000
DESCRIPTION:Regionale Produkte:\nKäse, Backwaren, Pilze, Konfi, Honig, Gemüse, Kaffee, Handarbeiten, Mineralien, Kunsthandwerk und vieles mehr.......\n\n\nVerfügbarkeit / Datum, Zeit\n29.8.2026 08:00 - 12:00\n\n\nDas Angebot im Detail: https://www.guidle.com/angebote/1205920877/samstag-markt_auf_dem_casinoplatz_mit_bistro_von_0800-1200_uhr/meiringen\nQuelle: https://www.myfarm.ch
SUMMARY:Samstag-Markt auf dem Casinoplatz. Mit Bistro von 08.00-12.00 Uhr
PRIORITY:5
X-MICROSOFT-CDO-IMPORTANCE:1
CLASS:PUBLIC
BEGIN:VALARM
TRIGGER:-P1D
ACTION:DISPLAY
DESCRIPTION:Reminder
END:VALARM
END:VEVENT
END:VCALENDAR