BEGIN:VCALENDAR
PRODID:-//Microsoft Corporation//Outlook 11.0 MIMEDIR//EN
VERSION:2.0
METHOD:PUBLISH
BEGIN:VEVENT
DTSTART:20260517T100000
DTEND:20260517T160000
LOCATION:Zuger Depot Technikgeschichte Sihlbruggstrasse 51, 6345 Neuheim
TRANSP:OPAQUE
SEQUENCE:0
UID:49fb80c8-6b45-4713-9575-9ae0130f57db-0
DTSTAMP:20260517T100000
DESCRIPTION:Das Zuger Depot Technikgeschichte (ZDT) in Neuheim macht am Internationalen Museumstag 2026 mit. Das Museum ist am Sonntag, 17. Mai von 10.00 bis 16.00 Uhr geöffnet. Zu sehen sind Exponate aus der Feuerwehr-, der Industrie-, der Militär- und der Verkehrsgeschichte des Kantons Zug – vom kleinen Zähler aus der Landis & Gyr bis zum grossen Panzer. Versierte Kenner des ZDT stellen die Bijous der Sammlung vor. Der Eintritt ist frei. In der Festwirtschaft können sich Besucherinnen und Besucher verpflegen. Angeboten werden verschiedene Getränke und Feines vom Grill. Die Ausstellung eignet sich auch für Familien mit Kindern. Beim ZDT stehen kostenlose Parkplätze zur Verfügung. Die Anreise ist aber auch gut mit dem ZVB-Bus Nr. 631 ab Bahnhof Baar bis Neuheim Sarbach möglich. Ebenso kann ein Besuch mit einem Spaziergang verbunden werden.\n\nDas Zuger Depot Technikgeschichte (ZDT)\nIm ehemaligen Zeughaus an der Sihlbruggstrasse 51 zeigen die fünf Trägervereine des Zuger Depots Technikgeschichte (ZDT) ihre Sammlerstücke und Exponate. Die Interessengemeinschaft zum Erhalt alter Geräte, Materialien und Akten der Freiwilligen Feuerwehr Zug, der Verein Industriepfad Lorze, die Militärhistorische Stiftung des Kantons Zug, die Militär-Motorfahrer Gesellschaft des Kantons Zug sowie der Orion-Club (Verein zur Erhaltung alter Fahrzeuge des Verkehrswesens des Kantons Zug) spannen seit dem Jahr 2009 zusammen und haben in dieser Zeit das ZDT zu einem modernen Depot mit integrierter Werkstatt ausgebaut, das in einmaliger Weise die Feuerwehr-, die Industrie-, die Militär- und die Verkehrsgeschichte des Kantons Zug dokumentiert.\n\n\n\nhttps://zdt.ch/\n\nKontakt\nZuger Depot Technikgeschichte\nSihlbruggstrasse 51\n6345 Neuheim\n\nVerfügbarkeit / Datum, Zeit\n17.5.2026 10:00 - 16:00\n\nPreis\nDer Eintritt ist frei.\n\n\nDas Angebot im Detail: https://www.guidle.com/angebote/1216935437/zuger_depot_technikgeschichte__internationaler_museumstag/neuheim\nQuelle: https://www.myfarm.ch
SUMMARY:Zuger Depot Technikgeschichte – Internationaler Museumstag
PRIORITY:5
X-MICROSOFT-CDO-IMPORTANCE:1
CLASS:PUBLIC
BEGIN:VALARM
TRIGGER:-P1D
ACTION:DISPLAY
DESCRIPTION:Reminder
END:VALARM
END:VEVENT
END:VCALENDAR