BEGIN:VCALENDAR
PRODID:-//Microsoft Corporation//Outlook 11.0 MIMEDIR//EN
VERSION:2.0
METHOD:PUBLISH
BEGIN:VEVENT
DTSTART:20260425T093000
DTEND:20260425T170000
LOCATION:Estavayer-le-Lac Région Case postale , 1470 Estavayer-le-Lac
TRANSP:OPAQUE
SEQUENCE:0
UID:564b921a-d971-4a4f-8f7c-6ea3116fc250-0
DTSTAMP:20260425T093000
DESCRIPTION:Der Bauernhof in der Stadt mit seinen Tieren kommen und seine Tiere kommen dieses Mal in die mittelalterliche Stadt.Wenn sich Stadt und Land für ein Frühlingswochenende in der mittelalterlichen Stadt Estavayer-le-Lac vermischen. Viele Aktivitäten, gesellige Animationen und Entdeckungen werden geboten. Der Bauernhof in der Stadt ist mehr als eine Veranstaltung, das ist eine Tradition. Die Veranstaltung bringt Familien und Liebhaber der Landwirtschaft zusammen.Auf dem Programm: Rinderwettbewerbe, Tierschauen mit Nutztieren, Aktivitäten für Kinder und Pferdekutschenfahrten. Für die meisten Feinschmecker gibt es während des ganzen Wochenendes warme Speisen und ein Buffet mit Gebäck.\nEs gibt einen Handwerkermarkt mit frischen und lokalen Produkten.\n\nhttps://fribourg.ch/de/estavayer-payerne/veranstaltungen/der-bauernhof-in-der-stadt/\n\nKontakt\nEstavayer-le-Lac Région\nEstavayer-le-Lac\n1470 Estavayer-le-Lac\n+41 26 301 60 30\n\nVerfügbarkeit / Datum, Zeit\n25.4.2026 09:30 - 17:00\n26.4.2026 09:30 - 17:00\n\n\nDas Angebot im Detail: https://www.guidle.com/angebote/1219571756/der_bauernhof_in_der_stadt/estavayer-le-lac\nQuelle: https://www.myfarm.ch
SUMMARY:Der Bauernhof in der Stadt
PRIORITY:5
X-MICROSOFT-CDO-IMPORTANCE:1
CLASS:PUBLIC
BEGIN:VALARM
TRIGGER:-P1D
ACTION:DISPLAY
DESCRIPTION:Reminder
END:VALARM
END:VEVENT
END:VCALENDAR