BEGIN:VCALENDAR
PRODID:-//Microsoft Corporation//Outlook 11.0 MIMEDIR//EN
VERSION:2.0
METHOD:PUBLISH
BEGIN:VEVENT
DTSTART:20251122
LOCATION:Musée HR Giger Rue du Château, 1663 Gruyères
TRANSP:OPAQUE
RRULE:FREQ=WEEKLY;INTERVAL=1;UNTIL=20260529;WKST=MO;BYDAY=MO,TU,WE,TH,FR,SA,SU
UID:c6e4df90-eb3f-4cb4-9d6f-1506312e1e00-0
DTSTAMP:20251122T120000
DESCRIPTION:Une collection d'images d'archives de et par HR Giger travaillant sur ses premières œuvres majeures, en voyage, en compagnie de Li Tobler et d'amis.\nUne collection remarquable d'images, dont beaucoup n'ont jamais été vues auparavant.  Elles retracent la carrière de HR Giger à l'une des périodes les plus créatives de sa vie.\n\nhttp://www.hrgigermuseum.com\n\nKontakt\nMusée H.R. Giger\nRue du Château 2\n1663 Gruyères\n026 921 22 00 (musée)\n\nVerfügbarkeit / Datum, Zeit\n22.11.2025 - 29.5.2026 \n\nAvril - Octobre\n\nLundi - Vendredi : 10h - 18h\n\nSamedi - Dimanche : 10h - 18h30\n\nNovembre - Mars\n\nLundi - Vendredi : 12h - 17h\n\nSamedi - Dimanche : 10h - 18h\n\nPreis\nAdulte : Frs. 12.50\nEtudiant/AVS/Militaire : Frs. 8.50\n\nEnfant: Frs. 4.00\n\nBillet combiné avec le château de Gruyères: Frs 20\n\nGroupe dès 12 personnes\nAdulte : Frs. 8.50\n\nEtudiant/AVS/Militaire: Frs. 7.50\n\nEnfant: Frs. 3.00\n\n\nDas Angebot im Detail: https://www.guidle.com/angebote/1221828875/photographs_hr_giger_part_ii_1966-1975_dedicated_to_li_tobler/gruyeres\nQuelle: https://www.myfarm.ch
SUMMARY:Photographs HR Giger part II 1966-1975 Dedicated to Li Tobler
PRIORITY:5
X-MICROSOFT-CDO-IMPORTANCE:1
CLASS:PUBLIC
BEGIN:VALARM
TRIGGER:-P1D
ACTION:DISPLAY
DESCRIPTION:Reminder
END:VALARM
END:VEVENT
END:VCALENDAR