BEGIN:VCALENDAR
PRODID:-//Microsoft Corporation//Outlook 11.0 MIMEDIR//EN
VERSION:2.0
METHOD:PUBLISH
BEGIN:VEVENT
DTSTART:20260429T100000
DTEND:20260429T170000
LOCATION:Regionalmuseum Chüechlihus Bärenplatz 1, 3550 Langnau im Emmental
TRANSP:OPAQUE
SEQUENCE:0
UID:de71b475-4076-4103-a811-21c93a7089bc-0
DTSTAMP:20260429T100000
DESCRIPTION:Special program at the Märit:\n- Rose cakes, warm apple cakes, hot and cold drinks\n- Special program\n- Competition\n- Discover the museum for free\n\nThe events all take place before & in the Regional Museum. No advance booking required.\n\nhttps://www.regionalmuseum-langnau.ch/\n\nKontakt\nRegionalmuseum Chüechlihus\nBärenplatz 1\n3550 Langnau i. E.\n034 402 18 19 (Museum)\n\nVerfügbarkeit / Datum, Zeit\n29.4.2026 10:00 - 17:00\n\n\nDas Angebot im Detail: https://www.guidle.com/angebote/1225767974/langnau_marit_im_chuechlihus/langnau_im_emmental\nQuelle: https://www.myfarm.ch
SUMMARY:LANGNAU MÄRIT im Chüechlihus
PRIORITY:5
X-MICROSOFT-CDO-IMPORTANCE:1
CLASS:PUBLIC
BEGIN:VALARM
TRIGGER:-P1D
ACTION:DISPLAY
DESCRIPTION:Reminder
END:VALARM
END:VEVENT
END:VCALENDAR