BEGIN:VCALENDAR
PRODID:-//Microsoft Corporation//Outlook 11.0 MIMEDIR//EN
VERSION:2.0
METHOD:PUBLISH
BEGIN:VEVENT
DTSTART:20260421T100000
DTEND:20260927T200000
LOCATION:Kunstmuseum Bern Hodlerstrasse 8-12, 3011 Bern
TRANSP:OPAQUE
RRULE:FREQ=WEEKLY;INTERVAL=1;UNTIL=20260927T200000;WKST=MO;BYDAY=TU
UID:d8306d56-f250-4bfa-9443-d770044d7e4c-0
DTSTAMP:20260421T100000
DESCRIPTION:Einer der Schätze der Sammlung des Kunstmuseum Bern ist der bedeutende Bestand von Werken älterer Kunst. Die Sammlungspräsentation Das volle Leben. Alte Meister von Duccio bis Liotard legt ein besonderes Augenmerk auf die Berner Renaissance und die frühe Florentiner und Sieneser Malerei des 13. bis 15. Jahrhunderts.\n\nZu sehen sind kunstvolle Altartafeln der zwischen 1480 und 1510 tätigen Berner Nelkenmeister und der grossartige Bestand an Werken des 1480 geborenen Niklaus Manuel, der nicht nur Maler, Dichter und Grafiker, sondern auch Reformator, Reisläufer und Ratsherr der Stadt Bern war. Opulente Stillleben und repräsentative Porträts, geschaffen von Joseph Heintz, Albrecht Kauw oder Johannes Dünz, widerspiegeln den wirtschaftlichen Wohlstand Berns im Barock.\n\nIn einem Kabinett sind zudem Altarretabeln und Fragmente aus dem italienischen Tre- und Quattrocento zu sehen, die in der Schweiz ihresgleichen suchen. Darunter eine ebenso kostbare wie berühmte Andachtstafel von Duccio di Buoninsegna sowie Werke von Bernardo und Taddeo Daddi, Fra Angelico, Filippo Lippi und aus der Werkstatt von Sandro Botticelli.\n\nKuratorin: Anne-Christine Strobel\nKuratorische Assistenz: Michelle Fritschi\n\nhttps://www.kunstmuseumbern.ch/de/ausstellung/das-volle-leben\n\nKontakt\nKunstmuseum Bern\nHodlerstrasse 8-12\n3011 Bern\n031 328 09 44\n\nVerfügbarkeit / Datum, Zeit\n13.2.2026 - 27.9.2026 10:00 - 20:00 Di\n13.2.2026 - 27.9.2026 10:00 - 17:00 Mi, Do, Fr, Sa, So\n\n\nDas Angebot im Detail: https://www.guidle.com/angebote/1228384592/das_volle_leben_alte_meister_von_duccio_bis_liotard/bern\nQuelle: https://www.myfarm.ch
SUMMARY:Das volle Leben. Alte Meister von Duccio bis Liotard
PRIORITY:5
X-MICROSOFT-CDO-IMPORTANCE:1
CLASS:PUBLIC
BEGIN:VALARM
TRIGGER:-P1D
ACTION:DISPLAY
DESCRIPTION:Reminder
END:VALARM
END:VEVENT
END:VCALENDAR