BEGIN:VCALENDAR
PRODID:-//Microsoft Corporation//Outlook 11.0 MIMEDIR//EN
VERSION:2.0
METHOD:PUBLISH
BEGIN:VEVENT
DTSTART:20260425T080000
DTEND:20260425T230000
LOCATION:Europaplatz, 3008 Bern
TRANSP:OPAQUE
SEQUENCE:0
UID:e837aa15-de21-45cf-9b96-4eb99fd5267c-0
DTSTAMP:20260425T080000
DESCRIPTION:Grand marché aux puces et aux objets rares Europaplatz Berne\nLe marché aux puces aura lieu 7 fois cette année.\n\n! !!!! Inscrivez-vous maintenant et assurez-vous une place ! !!!!\nProfitez de l'abonnement ( (7x réservation 1x gratuit) )\nPlace 2 x 2 mètres = 20.-- , place 3 x 3 mètres = 30.--\nPlace voiture = 40.-- , Place bus = 60.--\nInformations et inscriptions sous\nbrockicenter@bluewin.ch\nbrockicenter.ch\nTél. 079 823 64 60\n\n\nNote : Ce texte a été traduit par un logiciel de traduction automatique et non par un traducteur humain. Il peut contenir des erreurs de traduction.\n\nhttp:// www.brockicenter.ch\n\nKontakt\nBrockicenter Bern Sugiez\nBrockicenter\nBrockicenter Bern Sugiez\nInhaber\nwww.brockicenter.ch\nBernstrasse 44\n3018 Bern\n079 823 64 60\n\nVerfügbarkeit / Datum, Zeit\n25.4.2026 08:00 - 23:00\n30.5.2026 08:00 - 23:00\n27.6.2026 08:00 - 23:00\n25.7.2026 08:00 - 23:00\n21.8.2026 - 23.8.2026 08:00 - 23:00\n26.9.2026 08:00 - 23:00\n24.10.2026 08:00 - 23:00\n\n27.04.2024 - 25.05.2024 - 29.06.204 - 27.07.2024 - 24.08.2024 - 28.09.2024 - 26.10.2024\n\nPreis\nPlace 2 x 2 mètres = 20.-- , Place 3 x 3 mètres = 30.--\nPlace voiture = 40.-- , place bus = 60.--\n\n\nDas Angebot im Detail: https://www.guidle.com/angebote/1228563115/grand_marche_aux_puces_et_aux_objets_rares_2025/berne\nQuelle: https://www.myfarm.ch
SUMMARY:Grand marché aux puces et aux objets rares 2025
PRIORITY:5
X-MICROSOFT-CDO-IMPORTANCE:1
CLASS:PUBLIC
BEGIN:VALARM
TRIGGER:-P1D
ACTION:DISPLAY
DESCRIPTION:Reminder
END:VALARM
END:VEVENT
BEGIN:VEVENT
DTSTART:20260425T080000
DTEND:20260425T230000
LOCATION:Europaplatz, 3008 Bern
TRANSP:OPAQUE
SEQUENCE:0
UID:e837aa15-de21-45cf-9b96-4eb99fd5267c-1
DTSTAMP:20260425T080000
DESCRIPTION:Grand marché aux puces et aux objets rares Europaplatz Berne\nLe marché aux puces aura lieu 7 fois cette année.\n\n! !!!! Inscrivez-vous maintenant et assurez-vous une place ! !!!!\nProfitez de l'abonnement ( (7x réservation 1x gratuit) )\nPlace 2 x 2 mètres = 20.-- , place 3 x 3 mètres = 30.--\nPlace voiture = 40.-- , Place bus = 60.--\nInformations et inscriptions sous\nbrockicenter@bluewin.ch\nbrockicenter.ch\nTél. 079 823 64 60\n\n\nNote : Ce texte a été traduit par un logiciel de traduction automatique et non par un traducteur humain. Il peut contenir des erreurs de traduction.\n\nhttp:// www.brockicenter.ch\n\nKontakt\nBrockicenter Bern Sugiez\nBrockicenter\nBrockicenter Bern Sugiez\nInhaber\nwww.brockicenter.ch\nBernstrasse 44\n3018 Bern\n079 823 64 60\n\nVerfügbarkeit / Datum, Zeit\n25.4.2026 08:00 - 23:00\n30.5.2026 08:00 - 23:00\n27.6.2026 08:00 - 23:00\n25.7.2026 08:00 - 23:00\n21.8.2026 - 23.8.2026 08:00 - 23:00\n26.9.2026 08:00 - 23:00\n24.10.2026 08:00 - 23:00\n\n27.04.2024 - 25.05.2024 - 29.06.204 - 27.07.2024 - 24.08.2024 - 28.09.2024 - 26.10.2024\n\nPreis\nPlace 2 x 2 mètres = 20.-- , Place 3 x 3 mètres = 30.--\nPlace voiture = 40.-- , place bus = 60.--\n\n\nDas Angebot im Detail: https://www.guidle.com/angebote/1228563115/grand_marche_aux_puces_et_aux_objets_rares_2025/berne\nQuelle: https://www.myfarm.ch
SUMMARY:Grand marché aux puces et aux objets rares 2025
PRIORITY:5
X-MICROSOFT-CDO-IMPORTANCE:1
CLASS:PUBLIC
BEGIN:VALARM
TRIGGER:-P1D
ACTION:DISPLAY
DESCRIPTION:Reminder
END:VALARM
END:VEVENT
END:VCALENDAR