BEGIN:VCALENDAR
PRODID:-//Microsoft Corporation//Outlook 11.0 MIMEDIR//EN
VERSION:2.0
METHOD:PUBLISH
BEGIN:VEVENT
DTSTART:20260425T090000
DTEND:20260425T163000
LOCATION:Postautostation Weisstannen, Oberdorf, 7326 Weisstannen
TRANSP:OPAQUE
SEQUENCE:0
UID:e45d16f6-a9cd-42c2-a7ea-2f0d8f08708b-0
DTSTAMP:20260425T090000
DESCRIPTION:Während der eintägigen Steinwildtour lernst du das Reich von Steinbock und Co. kennen. Ein Swiss Ranger führt dich durchs abgeschiedene Weisstannental. Er versorgt dich mit spannenden Infos rund um das Leben der Wildtiere und hilft dir, die Tiere zu erspähen. \n\nBeobachtung von faszinierenden Wildtieren wie Steinbock, Hirsch, Gämse\nSpannende Informationen durch einen Swiss Ranger\nWanderung durch die bergige Landschaft des Weisstannentals\nMöglichkeit, verschiedene Wildtiere in ihrem natürlichen Lebensraum zu erleben\n\nSteinbock, Hirsch, Murmeltier, Bartgeier, Gämsen - im UNESCO-Weltererbe Tektonikarena Sardona fühlen sich diese Wildtiere zu Hause. Während der Steinwildtour wanderst du durch das abgeschiedene Weisstannental, vorbei an 80 Meter hohen Wasserfällen. Durch die wilde Natur begleitet dich ein Swiss Ranger. Er erzählt dir, wie die Tiere leben und was an deren Lebensraum besonders ist. Er bringt dich an jene Stellen, an denen du besonders gut die Tiere in freier Wildbahn beobachten kannst. Mit etwas Glück erspähst du die majestätischen Bergbewohner, die viele von uns nur von Fotos kennen. \nDie Touren finden wie folgt statt:  \nSamstag, 25. April 2026, 09.00 Uhr Samstag, 02. Mai 2026, 09.00 Uhr Samstag, 23. Mai 2026, 09.00 Uhr Sonntag, 20. September 2026, 09.00 Uhr Sonntag, 4. Oktober 2026, 09.00 Uhr Sonntag, 18. Oktober 2026, 09.00 Uhr Sonntag, 25. Oktober 2026, 09.00 Uhr\n\nGeführte Wanderung mit einem Swiss Ranger\nInformationen zur Wiederansiedlung des Steinbocks\nVom unglaublichen Wissen eines Swiss Ranger profitieren\nAnschauungsmaterial wie z.B. Steinbockhörner\n\nDeutsch, weitere Sprachen auf Anfrage\n\nHinweise \n\nSchwierigkeitsgrad: Mittel (560 Höhenmeter / ca. 4 km pro Weg)\nGutes, festes Schuhwerk\nFeldstecher empfehlenswert\nZwischenverpflegung, Mittagessen und Getränke aus dem Rucksack (selber mitbringen)\n\nBuchung \n\nBuchbar von April bis Oktober an ausgewählten Daten\nDurchführung der Tour ab 4 Erwachsenen (definitiver Entscheid am Vortag 12.00 Uhr) \nOnline: bis am Vortag 16.00 Uhr, sofern nicht bereits abgesagt\nTelefonisch: kurzfristige Anfragen sind bis am Vortag möglich (Öffnungszeiten), sofern nicht bereits abgesagt\nFindet bei jeder Witterung statt, ausser der Swiss Ranger sagt die Tour aus Sicherheitsgründen ab\nIndividuelle Gruppentouren bis max. 40 Personen auf Anfrage möglich (Bis 20 Pers. CHF 500.00 für die ganze Gruppe, 21-40 Pers. CHF 900.00 für die ganze Gruppe)\n\nNoch Fragen? Kontaktiere uns unter: Heidiland Tourismus, Infostelle Bad Ragaz, T +41 81 300 40 20, badragaz@heidiland.com\n\nPostautostation Weisstannen, Oberdorf \nAnreise mit ÖV Samstag: Sargans, Bahnhof ab 8.06 Uhr / Weisstannen, Oberdorf an 8.42 Uhr Weisstannen, Oberdorf ab 16.47 Uhr / Sargans Bahnhof an 17.24 Uhr  Anreise mit ÖV Sonntag: Sargans, Bahnhof ab 8.06 Uhr / Weisstannen, Oberdorf an 8.42 Uhr Weisstannen, Oberdorf ab 17.17 Uhr / Sargans Bahnhof an 17.54 Uhr \nHinweis: Wir empfehlen die Anreise mit den öffentlichen Verkehrsmitteln, da die Parkmöglichkeiten in Weisstannen am Wochenende begrenzt sind. Alternativ kann auch eine Übernachtung eingeplant werden.\n\nKontakt\nHeidiland Tourismus - Wildtierbeobachtungen\nAm Platz 1\n7310 Bad Ragaz\n+41 81 300 40 20\n\nVerfügbarkeit / Datum, Zeit\n25.4.2026 09:00 - 16:30\n2.5.2026 09:00 - 16:30\n23.5.2026 09:00 - 16:30\n20.9.2026 09:00 - 16:30\n4.10.2026 09:00 - 16:30\n18.10.2026 09:00 - 16:30\n25.10.2026 09:00 - 16:30\n\nPreis\nErwachsene: 65.00 CHF\nKinder 6-15 Jahre: 30.00 CHF\n\nVorverkauf\nhttps://heidiland.com/buchen/erlebnisse/wildtierbeobachtung-steinbock-hirsch-gaemse-und-co.html#/experience/TDS00020013037534571?utm_campaign=erlebnisse_tomas&utm_source=guidle&utm_medium=wildtier_steinwild_web&utm_content=&utm_term=de\n\n\nDas Angebot im Detail: https://www.guidle.com/angebote/1228637791/wildtierbeobachtung_steinbock_hirsch_gamse_und_co/weisstannen\nQuelle: https://www.myfarm.ch
SUMMARY:Wildtierbeobachtung Steinbock, Hirsch, Gämse und Co.
PRIORITY:5
X-MICROSOFT-CDO-IMPORTANCE:1
CLASS:PUBLIC
BEGIN:VALARM
TRIGGER:-P1D
ACTION:DISPLAY
DESCRIPTION:Reminder
END:VALARM
END:VEVENT
END:VCALENDAR