BEGIN:VCALENDAR
PRODID:-//Microsoft Corporation//Outlook 11.0 MIMEDIR//EN
VERSION:2.0
METHOD:PUBLISH
BEGIN:VEVENT
DTSTART:20260916
LOCATION:Strohhotel Bodensee Kratzern 39, 9320 Arbon
TRANSP:OPAQUE
RRULE:FREQ=WEEKLY;INTERVAL=1;WKST=MO;BYDAY=MO,TU,WE,TH,FR,SA,SU
UID:db577d44-f4b9-4217-8a6a-b21265287297-0
DTSTAMP:20260916T120000
DESCRIPTION:Our family has always run a farm with dairy farming and orchards on beautiful Lake Constance. The pile dwellers have always used the mild climate for fruit growing. The last high trunk orchards of this long tradition still characterize our Mostindien region today. The resulting lovely landscape offers guests a uniquely relaxing backdrop with an infinite variety of experiences in gentle tourism. There is the lake, the many side roads with the pretty Thurgau villages, the castles and palaces, the small towns with their historic buildings, which provide an idyllic backdrop and invite you to visit. From spring to fall, it is simply beautiful here in Mostland. That's why we would like to offer you a home from home, whether for one or more nights or for a vacation in a straw bed, mattress or bed. Whether hay or straw, it's always cozy.\n\n\nNote: This text was translated by machine translation software and not by a human translator. It may contain translation errors.\n\nhttp://www.strohhotelbodensee.ch\n\nKontakt\nStrohhotel Bodensee\nCorina Stäheli\nGastgeberin\nKratzern 39\n9320 Arbon\n076 307 54 55\n\nVerfügbarkeit / Datum, Zeit\n16.9.2026 -  \n\nArrival daily between 5 and 7 pm. Our season lasts from Easter to mid-September. \nPlease book your overnight stay in advance. Overnight stays and arrival times outside the regular times are also possible if announced.\n\nPreis\nPRICE PER PERSON/NIGHT INCL. BREAKFAST for sleeping in straw, dormitory and rooms. \nAdults: from CHF 35\nChildren: from CHF 25\nThe current prices per category can be found on our website www.strohhotelbodensee.ch. Prices for school classes on request. \n\nThe holiday apartment with 4 beds costs CHF 100/night + CHF 70 for final cleaning and, if applicable, CHF 10/bed for bed linen +, if applicable, CHF 10/person/night for breakfast.\n\n\nDas Angebot im Detail: https://www.guidle.com/angebote/1228783235/strohhotel_bodensee_sleeping_on_straw_dormitory_rooms_and_holiday_apartment/arbon\nQuelle: https://www.myfarm.ch
SUMMARY:Strohhotel Bodensee: Sleeping on straw, dormitory, rooms and holiday apartment
PRIORITY:5
X-MICROSOFT-CDO-IMPORTANCE:1
CLASS:PUBLIC
BEGIN:VALARM
TRIGGER:-P1D
ACTION:DISPLAY
DESCRIPTION:Reminder
END:VALARM
END:VEVENT
END:VCALENDAR