BEGIN:VCALENDAR
PRODID:-//Microsoft Corporation//Outlook 11.0 MIMEDIR//EN
VERSION:2.0
METHOD:PUBLISH
BEGIN:VEVENT
DTSTART:20260424T090000
DTEND:20260424T110000
LOCATION:8000 Zürich
TRANSP:OPAQUE
SEQUENCE:0
UID:d49db4d3-6904-41d0-a6b6-841c1e165b02-0
DTSTAMP:20260424T090000
DESCRIPTION:Kultur im Dialog: Interaktive Kurse für Erwachsene\n\nIn Zusammenarbeit mit Zürcher Kulturinstitutionen entwickelt der Verein Kulturvermittlung Zürich ein thematisches Kursprogramm, in dem Kunst, Design, Musik, Tanz und Theater in einen spannenden Dialog treten.\n\nIn wechselnden Kooperationen gestalten jeweils zwei Kulturvermittler:innen aus unseren Mitglieder-Institutionen gemeinsam interaktive Kurse. So entstehen neue Zugänge, die unerwartete Blickwinkel auf ein gemeinsames Thema eröffnen.\n\nDie Formate reichen von Ausstellungs- und Stadtrundgängen, über Werkstatt- und Probenbesuche bis hin zu exklusiven Einblicken hinter die Kulissen. Diese Einblicke werden durch Hintergrundinformationen sowie einen kreativen Teil ergänzt.\n\nDas Veranstaltungsprogramm 2026 nimmt gesellschaftlichen Wandel zum Ausgangspunkt und stellt sich im Rahmen folgender thematischer Schwerpunkte den Fragen unserer Gegenwart:\n\n- In der Veranstaltungsreihe LIFE/LIVE  widmen wir uns der Unmittelbarkeit des Moments. Im Zentrum stehen performative Situationen und das Hier und Jetzt, ebenso wie die Auseinandersetzung mit dem Festhalten des Flüchtigen und der Frage nach seiner Wahrhaftigkeit.\n\n- Die Veranstaltungsreihe UNGEHORSAM widmet sich Formen des Widerstands, der Irritation und des Bruchs in Kunst und Gesellschaft. Sie fragt danach, wie künstlerische Praktiken bestehende Strukturen aufbrechen und neue Denk- und Handlungsräume eröffnen.\n\n- Die Veranstaltungsreihe ALLES RÜCKWÄRTS befasst sich mit Perspektivwechseln, Umkehrungen und dem Blick zurück nach vorne. Ausgehend von Geschichte, Archiv und Erinnerung erkunden wir, wie Vergangenes unsere Gegenwart prägt – und wie das Rückwärtsdenken neue Zugänge zu aktuellen Fragestellungen eröffnen kann.\n\nhttps://kulturvermittlung-zh.ch/early-birds/\n\nKontakt\nVerein Kulturvermittlung Zürich\n8000  Zürich\n079 662 83 46\n\nVerfügbarkeit / Datum, Zeit\n24.4.2026 09:00 - 11:00\n8.5.2026 09:00 - 11:00\n22.5.2026 09:00 - 11:00\n12.6.2026 09:00 - 11:00\n\nPreis\nRegulär: CHF 25.00 / KulturLegi: CHF 15.00 / Solidaritätsticket: CHF 35.00 / Gönner:innenticket: CHF 50.00 \n\nVorverkauf\nhttps://kulturvermittlung-zh.ch/early-birds/\n\n\nDas Angebot im Detail: https://www.guidle.com/angebote/1229199085/early_birds_-_kultur_im_dialog_interaktive_kurse_fur_erwachsene/zurich\nQuelle: https://www.myfarm.ch
SUMMARY:"EARLY BIRDS" - Kultur im Dialog: Interaktive Kurse für Erwachsene
PRIORITY:5
X-MICROSOFT-CDO-IMPORTANCE:1
CLASS:PUBLIC
BEGIN:VALARM
TRIGGER:-P1D
ACTION:DISPLAY
DESCRIPTION:Reminder
END:VALARM
END:VEVENT
END:VCALENDAR