BEGIN:VCALENDAR
PRODID:-//Microsoft Corporation//Outlook 11.0 MIMEDIR//EN
VERSION:2.0
METHOD:PUBLISH
BEGIN:VEVENT
DTSTART:20260830T133000
DTEND:20260830T160000
LOCATION:Montessori Schule "Bildung mit Weitblick" Bernrainstr. 69, 8280 Kreuzlingen
TRANSP:OPAQUE
SEQUENCE:0
UID:0b2c40d9-2adc-4e23-b728-3a48b1e8245f-0
DTSTAMP:20260830T133000
DESCRIPTION:Wir malen mit Blumen und Matsch! Blüten rein, Pinsel raus – Naturfarben für kleine & grosse Künstler! Im bunten Schulgarten der Montessori Schule „Bildung mit Weitblick“ für Familien mit Kindern ab 6 Jahren.\n\nIn der Natur verstecken sich wundervolle Farben – in Blättern, Blüten, Beeren und Erde. Gemeinsam entdecken wir sie und verwandeln Pflanzen in leuchtende Farben und Tinte. Dabei wird gemischt, gerührt, gemalt und gestaunt!\n\nJedes selbstgemachte Pigment erzählt seine eigene kleine Geschichte: von sonnigen Blumen, duftenden Kräutern oder geheimnisvoller Erde. Wir spüren, wie viel Kraft und Magie in der Natur steckt, während wir mit unseren Händen kreativ werden.\n\nAusprobieren, Experimentieren und Lachen stehen im Mittelpunkt. Alle dürfen mitmachen, ihre Ideen einbringen und Neues entdecken. Zusammen wird gemalt, getauscht und gestaunt – so wird der Tag lebendig und bunt.\n\nWie kleine Farbenzauberer lassen wir die Natur auf dem Papier tanzen und erschaffen unsere eigenen, fröhlichen Kunstwerke.\n\n\n\nhttps://www.feroxnaturaartis.ch/startseite/\n\nKontakt\nFerox Natura Artis\nNadja Hillgruber\n8280  Kreuzlingen\n\nVerfügbarkeit / Datum, Zeit\n30.8.2026 13:30 - 16:00\n\nPreis\n25,- CHF pro Fam max. 4 Pers\n\nVorverkauf\nhttps://www.feroxnaturaartis.ch/termine/\n\n\nDas Angebot im Detail: https://www.guidle.com/angebote/1229547421/natur__farben__die_bunte_welt_entdecken/kreuzlingen\nQuelle: https://www.myfarm.ch
SUMMARY:Natur & Farben – die bunte Welt entdecken!
PRIORITY:5
X-MICROSOFT-CDO-IMPORTANCE:1
CLASS:PUBLIC
BEGIN:VALARM
TRIGGER:-P1D
ACTION:DISPLAY
DESCRIPTION:Reminder
END:VALARM
END:VEVENT
END:VCALENDAR