BEGIN:VCALENDAR
PRODID:-//Microsoft Corporation//Outlook 11.0 MIMEDIR//EN
VERSION:2.0
METHOD:PUBLISH
BEGIN:VEVENT
DTSTART:20260522T180000
DTEND:20260522T193000
LOCATION:7000 Chur
TRANSP:OPAQUE
SEQUENCE:0
UID:29bf83c8-6e77-4965-ac7b-e8c3e33e8b21-0
DTSTAMP:20260522T180000
DESCRIPTION:Von Brunnen zu Brunnen führt Waschweib Ursina oder Knecht Gion und entführt Sie während dieses feucht-fröhlichen Rundgangs auf eine Zeitreise vom historischen Trog bis zum Wasser speienden Geisterkopf. Erleben Sie waschechte Churer Geschichte(n) aus sprudelnden Quellen!\n\nDie Führungen finden von 18.00-19.30 Uhr statt.\n\nDeutsch\n\n1.5 Stunden\n\nIhre Buchungsbestätigung gilt als Ihr Ticket. Tickets werden weder umgetauscht noch rückerstattet.\n\nBlauer Brunnen: Tränen der Lucrezia, Poststrasse\n\nKontakt\nChur Tourismus (öffentliche Führungen)\nBahnhofstrasse 32\n7000 Chur\n+41 81 252 18 18\n\nVerfügbarkeit / Datum, Zeit\n22.5.2026 18:00 - 19:30\n5.6.2026 18:00 - 19:30\n12.6.2026 18:00 - 19:30\n19.6.2026 18:00 - 19:30\n26.6.2026 18:00 - 19:30\n24.7.2026 18:00 - 19:30\n28.8.2026 18:00 - 19:30\n25.9.2026 18:00 - 19:30\n\nPreis\nErwachsen ab 16 J.: 20.00 CHF\nKind (0 - 5 J.): 12.00 CHF\nKind (6 - 15 J.): 0.00 CHF\n\nVorverkauf\nhttps://shop.churtourismus.ch/CHUR/experience/detail/TDS00020013003132062?globalReset=1\n\n\nDas Angebot im Detail: https://www.guidle.com/angebote/1229890644/offentliche_fuhrung_churer_brunnengefluster/chur\nQuelle: https://www.myfarm.ch
SUMMARY:Öffentliche Führung Churer Brunnengeflüster
PRIORITY:5
X-MICROSOFT-CDO-IMPORTANCE:1
CLASS:PUBLIC
BEGIN:VALARM
TRIGGER:-P1D
ACTION:DISPLAY
DESCRIPTION:Reminder
END:VALARM
END:VEVENT
END:VCALENDAR