BEGIN:VCALENDAR
PRODID:-//Microsoft Corporation//Outlook 11.0 MIMEDIR//EN
VERSION:2.0
METHOD:PUBLISH
BEGIN:VEVENT
DTSTART:20260424T110000
DTEND:20260607T170000
LOCATION:Alte Fabrik Rapperswil Klaus-Gebert-Strasse 5, 8640 Rapperswil SG
TRANSP:OPAQUE
RRULE:FREQ=WEEKLY;INTERVAL=1;UNTIL=20260607T170000;WKST=MO;BYDAY=FR
UID:f0583b70-681c-4665-810d-afbbb9b76ce7-0
DTSTAMP:20260424T110000
DESCRIPTION:Der Kraft der Flüsse folgend lässt uns die zweite Ausstellung zum Stadtbach treiben und spürt den verwobenen Fäden der örtlichen Industriegeschichte nach. Sie beleuchtet die Auswirkungen der fortschreitenden technologischen Industrialisierung auf die Lebens- und Arbeitsbedingungen der Menschen und folgt deren Verstrickungen ins Heute. Welche Geschichten wurden hier erzählt und wer wurde dabei übersehen?\n\nERÖFFNUNG Freitag, 24. April, 18 Uhr\nÖFFNUNGSZEITEN Mittwoch, 12-18 Uhr / Samstag und Sonntag, 11-17 Uhr\nVERANSTALTUNGEN genauere Angaben unter www.alte-fabrik.ch\nPREISE Ausstellung Eintritt frei\n\nhttps://www.alte-fabrik.ch/minerva-2/\n\nKontakt\nALTE FABRIK\nKlaus-Gebert-Strasse 5\n8640  Rapperswil\n+41 (0)55 225 74 74\n\nVerfügbarkeit / Datum, Zeit\n24.4.2026 - 7.6.2026 11:00 - 17:00 Fr\n\nTüröffnung: 11:00 Uhr\n\nPreis\nAusstellung Eintritt frei\n\n\nDas Angebot im Detail: https://www.guidle.com/angebote/1230480850/minerva_ii_works_and_days_the_fabrics_of_power/rapperswil_sg\nQuelle: https://www.myfarm.ch
SUMMARY:Minerva II: Works and Days. The Fabrics of Power
PRIORITY:5
X-MICROSOFT-CDO-IMPORTANCE:1
CLASS:PUBLIC
BEGIN:VALARM
TRIGGER:-P1D
ACTION:DISPLAY
DESCRIPTION:Reminder
END:VALARM
END:VEVENT
END:VCALENDAR