BEGIN:VCALENDAR
PRODID:-//Microsoft Corporation//Outlook 11.0 MIMEDIR//EN
VERSION:2.0
METHOD:PUBLISH
BEGIN:VEVENT
DTSTART:20260425
LOCATION:Vitromusée Romont Rue du Château 108b, 1680 Romont FR
TRANSP:OPAQUE
SEQUENCE:0
UID:a3345673-d5ff-40aa-9e6d-642d05198349-0
DTSTAMP:20260425T120000
DESCRIPTION:The works joined the museum's collection in 2024 following a donation by the artist. They constitute a representative selection of her work, carefully chosen by WirtlWalser herself, which reflects the techniques and themes she explored throughout her career. The exhibition highlights an artist driven by constant curiosity and experimentation, always seeking new avenues of expression through glass.\nOriginally from Kleinwalsertal (Austria), Fride WirtlWalser has lived in Peiting-Schongau, Upper Bavaria, since 1952. Her works have been exhibited in Germany, France, Italy, Switzerland, Egypt and Russia. She is also the author of four specialist books on the technique and history of glass painting.\n\nhttps://fribourg.ch/en/romontregion/events/vitromusee-8211-fride-wirtlwalser-retrospective/\n\nKontakt\nVitromusée Romont\n1680 Romont\n+41 26 652 10 95\n\nVerfügbarkeit / Datum, Zeit\n25.4.2026 \n26.4.2026 \n27.4.2026 \n28.4.2026 \n29.4.2026 \n30.4.2026 \n1.5.2026 \n2.5.2026 \n3.5.2026 \n4.5.2026 \n5.5.2026 \n6.5.2026 \n7.5.2026 \n8.5.2026 \n9.5.2026 \n10.5.2026 \n11.5.2026 \n12.5.2026 \n13.5.2026 \n14.5.2026 \n15.5.2026 \n16.5.2026 \n17.5.2026 \n18.5.2026 \n19.5.2026 \n20.5.2026 \n21.5.2026 \n22.5.2026 \n23.5.2026 \n24.5.2026 \n25.5.2026 \n26.5.2026 \n27.5.2026 \n28.5.2026 \n29.5.2026 \n30.5.2026 \n31.5.2026 \n1.6.2026 \n2.6.2026 \n3.6.2026 \n4.6.2026 \n5.6.2026 \n6.6.2026 \n7.6.2026 \n8.6.2026 \n9.6.2026 \n10.6.2026 \n11.6.2026 \n12.6.2026 \n13.6.2026 \n14.6.2026 \n15.6.2026 \n16.6.2026 \n17.6.2026 \n18.6.2026 \n19.6.2026 \n20.6.2026 \n21.6.2026 \n22.6.2026 \n23.6.2026 \n24.6.2026 \n25.6.2026 \n26.6.2026 \n27.6.2026 \n28.6.2026 \n29.6.2026 \n30.6.2026 \n1.7.2026 \n2.7.2026 \n3.7.2026 \n4.7.2026 \n5.7.2026 \n6.7.2026 \n7.7.2026 \n8.7.2026 \n9.7.2026 \n10.7.2026 \n11.7.2026 \n12.7.2026 \n13.7.2026 \n14.7.2026 \n15.7.2026 \n16.7.2026 \n17.7.2026 \n18.7.2026 \n19.7.2026 \n20.7.2026 \n21.7.2026 \n22.7.2026 \n23.7.2026 \n24.7.2026 \n25.7.2026 \n26.7.2026 \n27.7.2026 \n28.7.2026 \n29.7.2026 \n30.7.2026 \n31.7.2026 \n1.8.2026 \n2.8.2026 \n3.8.2026 \n4.8.2026 \n5.8.2026 \n6.8.2026 \n7.8.2026 \n8.8.2026 \n9.8.2026 \n10.8.2026 \n11.8.2026 \n12.8.2026 \n13.8.2026 \n14.8.2026 \n15.8.2026 \n16.8.2026 \n17.8.2026 \n18.8.2026 \n19.8.2026 \n20.8.2026 \n21.8.2026 \n22.8.2026 \n23.8.2026 \n24.8.2026 \n25.8.2026 \n26.8.2026 \n27.8.2026 \n28.8.2026 \n29.8.2026 \n30.8.2026 \n31.8.2026 \n1.9.2026 \n2.9.2026 \n3.9.2026 \n4.9.2026 \n5.9.2026 \n6.9.2026 \n7.9.2026 \n8.9.2026 \n9.9.2026 \n10.9.2026 \n11.9.2026 \n12.9.2026 \n13.9.2026 \n14.9.2026 \n15.9.2026 \n16.9.2026 \n17.9.2026 \n18.9.2026 \n19.9.2026 \n20.9.2026 \n21.9.2026 \n22.9.2026 \n23.9.2026 \n24.9.2026 \n25.9.2026 \n26.9.2026 \n27.9.2026 \n28.9.2026 \n29.9.2026 \n30.9.2026 \n1.10.2026 \n2.10.2026 \n3.10.2026 \n4.10.2026 \n\n\nDas Angebot im Detail: https://www.guidle.com/angebote/1231881728/vitromusee__fride_wirtlwalser_retrospective/romont_fr\nQuelle: https://www.myfarm.ch
SUMMARY:Vitromusée – Fride WirtlWalser. Rétrospective
PRIORITY:5
X-MICROSOFT-CDO-IMPORTANCE:1
CLASS:PUBLIC
BEGIN:VALARM
TRIGGER:-P1D
ACTION:DISPLAY
DESCRIPTION:Reminder
END:VALARM
END:VEVENT
END:VCALENDAR