BEGIN:VCALENDAR
PRODID:-//Microsoft Corporation//Outlook 11.0 MIMEDIR//EN
VERSION:2.0
METHOD:PUBLISH
BEGIN:VEVENT
DTSTART:20260520T100000
DTEND:20260520T110000
LOCATION:Bauernhof Ernst und Regina Züllig Oberhäusernstrasse 14, 8590 Romanshorn
TRANSP:OPAQUE
SEQUENCE:0
UID:9d3a12ba-dc9e-4127-a288-9e09767b88e1-0
DTSTAMP:20260520T100000
DESCRIPTION:Die letzten 200 Jahre der Thurgauer Landwirtschaft stehen im Zentrum dieses Rückblicks. Es wird aufgezeigt, wie das Leben auf dem Hof früher aussah und inwiefern der Rhythmus der Feldarbeit den Alltag am Bodensee prägte.\n\nTraditionelles Handwerk und historische Einblicke: Die Arbeit des Mostens wird anhand alter Geräte greifbar gemacht. Die Funktionsweise der damaligen Technik verdeutlicht den hohen körperlichen Aufwand. Dabei kommt auch zur Sprache, weshalb in manchen Jahren eine enorme Menge an Most produziert wurde und welche Auswirkungen dies auf die lokale Bevölkerung hatte.\n\nVon der Geschichte zur modernen Veredelung\nDer Blick richtet sich jedoch nicht nur in die Vergangenheit. Seit 15 Jahren findet die Veredelung der hofeigenen Birnen zum preisgekrönten «Oberhüserer Birebrand» (40 %) statt. Der Entstehungsprozess dieser Spezialität sowie die besonderen Qualitätsmerkmale bilden den Abschluss der Präsentation.\n\nhttps://www.hofsuche.schweizerbauern.ch/de/farm/oberhueserer-hofprodukte-9881/vomhof\n\nKontakt\nErnst und Regina Züllig\nOberhäusernstrasse 14\n8590 Romanshorn\n\nVerfügbarkeit / Datum, Zeit\n20.5.2026 10:00 - 11:00\n12.9.2026 16:00 - 17:00\n7.10.2026 17:00 - 18:00\n\nDie Veranstaltung findet bei jeder Witterung statt.\n\nPreis\nCHF 6.00 pro Person\n\nVorverkauf\nhttps://thurgau-bodensee.ch/buchen/erlebnisse.html#/experience/TDS00020016177546602\n\n\nDas Angebot im Detail: https://www.guidle.com/angebote/1235865371/kultur_bim_puur_-_kellerbesichtigung_mit_degustation/romanshorn\nQuelle: https://www.myfarm.ch
SUMMARY:Kultur bim Puur - Kellerbesichtigung mit Degustation
PRIORITY:5
X-MICROSOFT-CDO-IMPORTANCE:1
CLASS:PUBLIC
BEGIN:VALARM
TRIGGER:-P1D
ACTION:DISPLAY
DESCRIPTION:Reminder
END:VALARM
END:VEVENT
END:VCALENDAR