BEGIN:VCALENDAR
PRODID:-//Microsoft Corporation//Outlook 11.0 MIMEDIR//EN
VERSION:2.0
METHOD:PUBLISH
BEGIN:VEVENT
DTSTART:20260425
LOCATION:Les Amis des Paccots Case postale , 1619 Les Paccots
TRANSP:OPAQUE
SEQUENCE:0
UID:7d073296-cee8-48d1-b153-b90954848260-0
DTSTAMP:20260425T120000
DESCRIPTION:À travers ses multiples voyages, Jacky, photographe et témoin émerveillé, dévoile l’éclat saisissant des couleurs du Québec, sans cesse renouvelées au fil des saisons.La nature sauvage et majestueuse des paysages québécois rappelle, à certains égards, la beauté de notre région des Préalpes.\n\nhttps://fribourg.ch/fr/les-paccots/evenements/exposition-de-jacky-maquelin/\n\nKontakt\nLes Amis des Paccots\n1619 Les Paccots\n\nVerfügbarkeit / Datum, Zeit\n25.4.2026 \n26.4.2026 \n27.4.2026 \n28.4.2026 \n29.4.2026 \n30.4.2026 \n1.5.2026 \n2.5.2026 \n3.5.2026 \n4.5.2026 \n5.5.2026 \n6.5.2026 \n7.5.2026 \n8.5.2026 \n9.5.2026 \n10.5.2026 \n11.5.2026 \n12.5.2026 \n13.5.2026 \n14.5.2026 \n15.5.2026 \n16.5.2026 \n17.5.2026 \n18.5.2026 \n19.5.2026 \n20.5.2026 \n21.5.2026 \n22.5.2026 \n23.5.2026 \n24.5.2026 \n25.5.2026 \n26.5.2026 \n27.5.2026 \n28.5.2026 \n29.5.2026 \n30.5.2026 \n31.5.2026 \n1.6.2026 \n2.6.2026 \n3.6.2026 \n4.6.2026 \n5.6.2026 \n6.6.2026 \n7.6.2026 \n8.6.2026 \n9.6.2026 \n10.6.2026 \n11.6.2026 \n12.6.2026 \n13.6.2026 \n14.6.2026 \n15.6.2026 \n16.6.2026 \n17.6.2026 \n18.6.2026 \n19.6.2026 \n20.6.2026 \n21.6.2026 \n22.6.2026 \n23.6.2026 \n24.6.2026 \n25.6.2026 \n26.6.2026 \n27.6.2026 \n28.6.2026 \n29.6.2026 \n30.6.2026 \n1.7.2026 \n2.7.2026 \n3.7.2026 \n4.7.2026 \n5.7.2026 \n6.7.2026 \n7.7.2026 \n8.7.2026 \n9.7.2026 \n10.7.2026 \n11.7.2026 \n12.7.2026 \n13.7.2026 \n14.7.2026 \n15.7.2026 \n16.7.2026 \n17.7.2026 \n18.7.2026 \n19.7.2026 \n20.7.2026 \n21.7.2026 \n22.7.2026 \n23.7.2026 \n24.7.2026 \n25.7.2026 \n26.7.2026 \n27.7.2026 \n28.7.2026 \n29.7.2026 \n30.7.2026 \n31.7.2026 \n\n\nDas Angebot im Detail: https://www.guidle.com/angebote/1243653128/exposition_de_jacky_maquelin/les_paccots\nQuelle: https://www.myfarm.ch
SUMMARY:Exposition de Jacky Maquelin
PRIORITY:5
X-MICROSOFT-CDO-IMPORTANCE:1
CLASS:PUBLIC
BEGIN:VALARM
TRIGGER:-P1D
ACTION:DISPLAY
DESCRIPTION:Reminder
END:VALARM
END:VEVENT
END:VCALENDAR