BEGIN:VCALENDAR
PRODID:-//Microsoft Corporation//Outlook 11.0 MIMEDIR//EN
VERSION:2.0
METHOD:PUBLISH
BEGIN:VEVENT
DTSTART:20260618T180000
DTEND:20260618T210000
LOCATION:Hans Erni Museum, Verkehrshaus der Schweiz Haldenstrasse 44, 6006 Luzern
TRANSP:OPAQUE
SEQUENCE:0
UID:56000980-cab1-41b5-a936-9f2bc2de500f-0
DTSTAMP:20260618T180000
DESCRIPTION:Ab 18. Juni 2026 zeigt das Hans Erni Museum in Kooperation mit dem Kunstmuseum Olten und dem Verkehrshaus der Schweiz unter dem Titel «Phantastische Flugobjekte. Hans Küchler und Verwandte» eine Schau zu den Flugmaschinen- und Flugzeugzeichnungen des Künstlers Hans Küchler (1929–2001) und verwandte Werke von zeitgenössischen Künstlerinnen und Künstlern sowie Objekte aus der Sammlung des Verkehrshauses.\n\nNach Grussworten von Karl Bühlmann, Präsident Hans Erni-Stiftung, Luzern und Florian Schalit, Amtsleiter Amt für Kultur und Sport, Kanton Solothurn führt Kurator Heinz Stahlhut in die Ausstellung ein; anschliessend Ausstellungsbesichtigung und Apero.\n\nEintritt offeriert von der Hans Erni-Stiftung; Zugang durch die Eingangshalle des Verkehrshauses.\n\n\nhttps://www.verkehrshaus.ch/de/ihr-besuch/museum/hans-erni-museum\n\nKontakt\nHans Erni Museum\nc/o Verkehrshaus der Schweiz\nHaldenstrasse 6\n6006 Luzern\n041 375 74 86\n\nVerfügbarkeit / Datum, Zeit\n18.6.2026 18:00 - 21:00\n\n\nDas Angebot im Detail: https://www.guidle.com/angebote/1243731526/vernissage_der_ausstellung_phantastische_flugobjekte/luzern\nQuelle: https://www.myfarm.ch
SUMMARY:Vernissage der Ausstellung "Phantastische Flugobjekte"
PRIORITY:5
X-MICROSOFT-CDO-IMPORTANCE:1
CLASS:PUBLIC
BEGIN:VALARM
TRIGGER:-P1D
ACTION:DISPLAY
DESCRIPTION:Reminder
END:VALARM
END:VEVENT
END:VCALENDAR