BEGIN:VCALENDAR
PRODID:-//Microsoft Corporation//Outlook 11.0 MIMEDIR//EN
VERSION:2.0
METHOD:PUBLISH
BEGIN:VEVENT
DTSTART:20260430T180000
LOCATION:Jugendherberge Mariastein Burg Rotberg, 4115 Mariastein
TRANSP:OPAQUE
SEQUENCE:0
UID:ebcfc932-efd3-4672-95fe-4f997e45763b-0
DTSTAMP:20260430T180000
DESCRIPTION:Erlebe die Walpurgisnacht am 30. April 2026 ab 18.00 Uhr auf der Burg Rotberg und geniesse einen stimmungsvollen Abend in besonderer Atmosphäre.\n\nFreue dich auf feine Speisen und Getränke in historischer Kulisse sowie auf mitreissende Live-Musik: Die Coverband AR2BE sorgt mit ihren Auftritten um 19.00 Uhr und 21.00 Uhr für beste Stimmung.\n\nFeiere den Frühling und tanze in den Mai – ein unvergesslicher Abend auf der Burg Rotberg in Mariastein.\n\nhttps://www.youthhostel.ch/de/angebote/walpurgisnacht-auf-burg-rotberg\n\nVerfügbarkeit / Datum, Zeit\n30.4.2026 18:00 - \n\n\nDas Angebot im Detail: https://www.guidle.com/angebote/1244091178/jugendherberge_mariastein_walpurgisnacht/mariastein\nQuelle: https://www.myfarm.ch
SUMMARY:Jugendherberge Mariastein, Walpurgisnacht
PRIORITY:5
X-MICROSOFT-CDO-IMPORTANCE:1
CLASS:PUBLIC
BEGIN:VALARM
TRIGGER:-P1D
ACTION:DISPLAY
DESCRIPTION:Reminder
END:VALARM
END:VEVENT
END:VCALENDAR