BEGIN:VCALENDAR
PRODID:-//Microsoft Corporation//Outlook 11.0 MIMEDIR//EN
VERSION:2.0
METHOD:PUBLISH
BEGIN:VEVENT
DTSTART:20260524T100000
DTEND:20260524T170000
LOCATION:Reformierte Kirche Präz Präzerstrasse 63, 7424 Präz
TRANSP:OPAQUE
SEQUENCE:0
UID:95e41b10-036b-4cc1-8816-b9cd686b1147-0
DTSTAMP:20260524T100000
DESCRIPTION:Der Eröffnungsanlass für das Pfingstprojekt 2026-2028 erfolgt im Rahmen des Pfingstfestes der Kirchenregion Heinzenberg-Domleschg in der Kirche Präz. Kathrin Ritzi, Präsidentin des Vereins Little Bridge, stellt mit Rita Gianelli, Fachstelle Migration und Weltweite Kirche, das neue Pfingstprojekt "Nothilfe in Armenien" im Rahmen des Gottesdienstes vor. \n\nDie Feier steht unter dem Motto "Schafe schenken". Denn: In Armenien sichern 6 Schafe einer ganzen Familie die Existenz. \n\nWir sammeln Geld, um Schafe für Familien in Armenien zu kaufen. Der Verein Little Bridge Schweiz, mit dem die landeskirchliche Fachstelle Migration und Weltweite Kirche das Pfingstprojekt 2026-2028 lanciert und organisiert, ist für den Kauf und die Verteilung mit Einheimischen vor Ort zuständig. \n\nIm Anschluss an den Pfingstgottesdienst in der reformierten Kirche in Präz, der unter dem Motto Schaf steht, gibt es ein gemeinsames Essen von den Landfrauen zubereitet. \n\nAm Nachmittag, ab 13.15 Uhr findet die Kirche Kunterbunt zum Thema Schaf statt. Ein buntes Programm zusammengestellt vom Team Kirche Kunterbunt mit Besuch auf der Weide, Basteln, Degustationen, Handmassage, Geschichten und Film erwartet die Besucherinnen und Besucher. Abschluss ca 16 Uhr mit gemeinsamem Zvieri.\n\n\nhttps://gr-ref.ch/aktuelles/pfingstprojekt-nothilfe-in-armenien/ ; https://little-bridge-schweiz.ch/\n\nKontakt\nEvangelisch-reformierte Landeskirche Graubünden\nRita Gianelli\nLoëstrasse 60\n7000 Chur\n0794069499\n\nVerfügbarkeit / Datum, Zeit\n24.5.2026 10:00 - 17:00\n\nPreis\nkeine\n\n\nDas Angebot im Detail: https://www.guidle.com/angebote/1244835669/eroffnungsfest_pfingstprojekt_little_bridge_-_nothilfe_in_armenien/praz\nQuelle: https://www.myfarm.ch
SUMMARY:Eröffnungsfest Pfingstprojekt: Little Bridge - Nothilfe in Armenien
PRIORITY:5
X-MICROSOFT-CDO-IMPORTANCE:1
CLASS:PUBLIC
BEGIN:VALARM
TRIGGER:-P1D
ACTION:DISPLAY
DESCRIPTION:Reminder
END:VALARM
END:VEVENT
END:VCALENDAR