BEGIN:VCALENDAR
PRODID:-//Microsoft Corporation//Outlook 11.0 MIMEDIR//EN
VERSION:2.0
METHOD:PUBLISH
BEGIN:VEVENT
DTSTART:20270516T100000
DTEND:20270516T160000
LOCATION:Comanderzentrum Sennensteinstrasse 28, 7000 Chur
TRANSP:OPAQUE
SEQUENCE:0
UID:6e89dbe8-b653-488f-b371-7f3e84fd6609-0
DTSTAMP:20270516T100000
DESCRIPTION:Schwerpunkt des Pfingstprojektes "Little Bridge - Nothilfe in Armenien" ist für das Jahr 2027 die Kultur. Armenien hat einen\ngrossen Beitrag zum Weltkulturerbe geleistet. Armenien ist das älteste christliche Land der Welt. Die Kirche ist eine Identitätsstifterin, die das armenische Volk durch seine leidvolle Geschichte getragen hat. Seit 2020 haben Kriege und die Vertreibung\nvon 120‘000 Armenierinnen und Armeniern aus Berg-Karabach das Land in Trauer und Hoffnungslosigkeit versetzt. Junge\nMenschen verlassen das Land, während die Landbevölkerung nur ungenügenden Zugang zu Gesundheitsversorgung, Ausbildungsmöglichkeiten und Arbeit hat. Nur die Landwirtschaft sichert das Überleben. Hier setzt das Pfingstprojekt der Bündner Kirche in Zusammenarbeit mit Little Bridge an.\n\nDer Pfingstgottesdienst findet im Comanderzentrum in Chur statt. Armenisches Grillfest, Musik, Tanz.\n\nhttps://gr-ref.ch/aktuelles/pfingstprojekt-nothilfe-in-armenien/ ; https://little-bridge-schweiz.ch/\n\nKontakt\nEvangelisch-reformierte Landeskirche Graubünden\nRita Gianelli\nLoëstrasse 60\n7000 Chur\n0794069499\n\nVerfügbarkeit / Datum, Zeit\n16.5.2027 10:00 - 16:00\n\ndetaillierte Zeitangaben folgen noch\n\nPreis\nkeine\n\nVorverkauf\nhttps://gr-ref.ch/aktuelles/pfingstprojekt-nothilfe-in-armenien/ ; https://little-bridge-schweiz.ch/\n\n\nDas Angebot im Detail: https://www.guidle.com/angebote/1244842576/little_bridge_-_nothilfe_in_armenien_kulturfest_im_comander/chur\nQuelle: https://www.myfarm.ch
SUMMARY:Little Bridge - Nothilfe in Armenien; Kulturfest im Comander
PRIORITY:5
X-MICROSOFT-CDO-IMPORTANCE:1
CLASS:PUBLIC
BEGIN:VALARM
TRIGGER:-P1D
ACTION:DISPLAY
DESCRIPTION:Reminder
END:VALARM
END:VEVENT
END:VCALENDAR