BEGIN:VCALENDAR
PRODID:-//Microsoft Corporation//Outlook 11.0 MIMEDIR//EN
VERSION:2.0
METHOD:PUBLISH
BEGIN:VEVENT
DTSTART:20260506
LOCATION:Musée historique de Vevey Rue du Château 2, 1800 Vevey
TRANSP:OPAQUE
SEQUENCE:0
UID:1e402662-5066-4ec8-b008-0ffda589f27e-0
DTSTAMP:20260506T120000
DESCRIPTION:Der Verein Vibiscum bietet Ihnen in Zusammenarbeit mit dem Historischen Museum von Vevey zwei Führungen durch die neue Sonderausstellung des Museums " Un quai nommé Perdonnet" an. Die Gelegenheit, die bewegte und spannende Geschichte dieses Quais zwischen Einsturz und Wiederaufbau zu entdecken.\nZeitpläne : \n18h\n\nhttp://www.museehistoriquevevey.ch\n\nKontakt\nMusée historique de Vevey\nRue du Château 2\n1800 Vevey\n\nVerfügbarkeit / Datum, Zeit\n6.5.2026 \n\n\nDas Angebot im Detail: https://www.guidle.com/angebote/1245337728/fuhrungen_durch_die_ausstellung_ein_kai_namens_perdonn/vevey\nQuelle: https://www.myfarm.ch
SUMMARY:Führungen durch die Ausstellung "Ein Kai namens Perdonn
PRIORITY:5
X-MICROSOFT-CDO-IMPORTANCE:1
CLASS:PUBLIC
BEGIN:VALARM
TRIGGER:-P1D
ACTION:DISPLAY
DESCRIPTION:Reminder
END:VALARM
END:VEVENT
END:VCALENDAR