BEGIN:VCALENDAR
PRODID:-//Microsoft Corporation//Outlook 11.0 MIMEDIR//EN
VERSION:2.0
METHOD:PUBLISH
BEGIN:VEVENT
DTSTART:20260502T100000
DTEND:20260502T160000
LOCATION:Villa Bernau Seftigenstrasse 243, 3084 Wabern
TRANSP:OPAQUE
SEQUENCE:0
UID:b893d2bc-828f-4333-a234-4968491291e7-0
DTSTAMP:20260502T100000
DESCRIPTION:Der Garten- & Garagen-Flohmarkt ist der geselligste Tag in Wabern! In Gärten, Garagen und auf den Trottoirs bieten Nachbarn ihre nicht mehr benötigten Dinge zum Verkauf an: von alten Glasperlenketten über robuste Fahrradpumpen bis hin zu Kinderartikeln, die nicht mehr gebraucht werden. Wer Lust hat, flaniert und stöbert auf der Suche nach dem kleinen Glück – vielleicht ein nettes Gespräch oder das erste Treffen mit den neuen Nachbarn. Fragen zum Flohmi: flohmarkt@bernau.ch\n\nVerfügbarkeit / Datum, Zeit\n2.5.2026 10:00 - 16:00\n\n\nDas Angebot im Detail: https://www.guidle.com/angebote/1250595180/garten_-_und_garagenflohmarkt_wabern/wabern\nQuelle: https://www.myfarm.ch
SUMMARY:Garten - und Garagenflohmarkt Wabern
PRIORITY:5
X-MICROSOFT-CDO-IMPORTANCE:1
CLASS:PUBLIC
BEGIN:VALARM
TRIGGER:-P1D
ACTION:DISPLAY
DESCRIPTION:Reminder
END:VALARM
END:VEVENT
END:VCALENDAR