BEGIN:VCALENDAR
PRODID:-//Microsoft Corporation//Outlook 11.0 MIMEDIR//EN
VERSION:2.0
METHOD:PUBLISH
BEGIN:VEVENT
DTSTART:20260424T120000
DTEND:20260424T210000
LOCATION:House of Nomad Stories , Loft19 Landstrasse 1, 5415 Obersiggenthal
TRANSP:OPAQUE
SEQUENCE:0
UID:9dd8748d-6003-4d9b-b2bf-1a1a3887c191-0
DTSTAMP:20260424T120000
DESCRIPTION:ATELIER DAYS – Immersive Nomadic Experience in Baden\n\nHOUSE OF NOMAD STORIES präsentiert mit den ATELIER DAYS eine viertägige, immersive Veranstaltung, die dem tief verwurzelten nomadischen Geist und seinen vielfältigen Erzählungen gewidmet ist. Kuratiert von Karin Kämpf (Co-Founder HONS), Karin Belfiglio sowie dem Künstler Roland Reisewitz, eröffnet diese erste Edition einen inspirierenden Raum für Begegnung, Austausch und sinnliche Erfahrungen.\n\nDie Besucher:innen erwartet eine sorgfältig kuratierte Mischung aus Talks, künstlerischen Impulsen und ästhetischen Entdeckungen, getragen von einer Denkweise, die Mobilität, kulturelle Vielfalt und kreative Freiheit in den Mittelpunkt stellt.\n\nIm Rahmen der ATELIER DAYS werden zudem ausgewählte Werke und Objekte präsentiert und zum Verkauf angeboten:\n\n* Kunst von Roland Reisewitz\n* Vintage-Objekte und Mid-Century-Schmuck von Karin Belfiglio\n* Eine exklusive Auswahl nachhaltiger Luxusmode, Accessoires und Duftkreationen by HONS\nEin besonderes Highlight ist die Präsentation innovativer Nischenparfums von Tessa Sakhi, inspiriert von den vier Jahreszeiten und den Wäldern dieser Welt.\n\nProgramm & Öffnungszeiten:\n* Donnerstag, 23. April | 17:00 – 21:00 Uhr Opening mit Anwesenheit aller Künstler:innen\n* Freitag, 24. April | 12:00 – 21:00 Uhr\n* Samstag, 25. April | 10:00 – 17:00 Uhr\n* Sonntag, 26. April | 10:00 – 15:00 Uhr Loft 19 Closing Brunch\n\nDie ATELIER DAYS laden dazu ein, in eine Welt zwischen Kunst, Design und nomadischer Inspiration einzutauchen – ein Erlebnis für alle Sinne im kreativen Umfeld des Oederlin Areals in Baden.\n\nhttps://houseofwovenstories.com\n\nKontakt\nKahra Studio Group Switzerland GmbH\nKarin Kämpf\nCEO\nBernardsstrasse 79\n5442 Fislisbach\n+41 78 480 5097\n\nVerfügbarkeit / Datum, Zeit\n24.4.2026 12:00 - 21:00\n25.4.2026 10:00 - 17:00\n26.4.2026 10:00 - 15:00\n\nProgramm & Öffnungszeiten:\n* Donnerstag, 23. April | 17:00 – 21:00 Uhr Opening mit Anwesenheit aller Künstler:innen\n* Freitag, 24. April | 12:00 – 21:00 Uhr\n* Samstag, 25. April | 10:00 – 17:00 Uhr\n* Sonntag, 26. April | 10:00 – 15:00 Uhr Loft 19 Closing Brunch\n\nPreis\nCHF 0.00\n\nVorverkauf\nhttps://houseofwovenstories.com/products/atelier-days\n\n\nDas Angebot im Detail: https://www.guidle.com/angebote/1250604523/atelier_days_by_house_of_nomad_stories/obersiggenthal\nQuelle: https://www.myfarm.ch
SUMMARY:ATELIER DAYS by House of Nomad Stories
PRIORITY:5
X-MICROSOFT-CDO-IMPORTANCE:1
CLASS:PUBLIC
BEGIN:VALARM
TRIGGER:-P1D
ACTION:DISPLAY
DESCRIPTION:Reminder
END:VALARM
END:VEVENT
END:VCALENDAR