BEGIN:VCALENDAR
PRODID:-//Microsoft Corporation//Outlook 11.0 MIMEDIR//EN
VERSION:2.0
METHOD:PUBLISH
BEGIN:VEVENT
DTSTART:20260424T080000
DTEND:20260424T190000
LOCATION:Blumen Tschan Baselstrasse 5, 4537 Wiedlisbach
TRANSP:OPAQUE
SEQUENCE:0
UID:e1fc0df3-f974-4caf-b103-cc2c86943811-0
DTSTAMP:20260424T080000
DESCRIPTION:Wir laden Sie herzlich zu unserer Frühlingsausstellung ein. Entdecken Sie eine vielfältige Auswahl an Blumen, Pflanzen und stilvollen Dekoideen für Ihr Daheim. Freuen Sie sich auf blumige Highlights, tolle Setzlinge, frische Küchenkräuter und Dekorationshighlights - und natürlich unsere grosse Auswahl an neuen Solarlampen. \n\nLassen Sie sich inspirieren und holen Sie sich den Frühling nach Hause.\nWir freuen uns auf Sie. \n\nhttps://blumen-tschan.ch\n\nKontakt\nBlumen Tschan\nBaselstrasse 5\n4537 Wiedlisbach\n0326362651\n\nVerfügbarkeit / Datum, Zeit\n24.4.2026 08:00 - 19:00\n25.4.2026 08:00 - 16:00\n\n\nDas Angebot im Detail: https://www.guidle.com/angebote/1252274013/fruhlingsausstellung_wiedlisbach/wiedlisbach\nQuelle: https://www.myfarm.ch
SUMMARY:Frühlingsausstellung Wiedlisbach
PRIORITY:5
X-MICROSOFT-CDO-IMPORTANCE:1
CLASS:PUBLIC
BEGIN:VALARM
TRIGGER:-P1D
ACTION:DISPLAY
DESCRIPTION:Reminder
END:VALARM
END:VEVENT
END:VCALENDAR