BEGIN:VCALENDAR
PRODID:-//Microsoft Corporation//Outlook 11.0 MIMEDIR//EN
VERSION:2.0
METHOD:PUBLISH
BEGIN:VEVENT
DTSTART:20260612T183000
DTEND:20260612T230000
LOCATION:Das Trösch Hauptstrasse 42, 8280 Kreuzlingen
TRANSP:OPAQUE
SEQUENCE:0
UID:ee442b34-736e-48c5-87f1-d9b836f95bbe-0
DTSTAMP:20260612T183000
DESCRIPTION:Jeden Monat wird an einem anderen Ort Halt gemacht. Immer im Gepäck sind: landestypisches Essen und gelebte Traditionen. Ein Fest, an dem alle teilhaben sollten, die Freude an den verschiedenen Kulturen unserer Welt haben. Reisen Sie mit?\n\nWas uns in diesem Monat erwartet, geben wir zeitnah unter https://dastroesch.ch/aktuelles bekannt.\n\nDas Projekt wird 2026 unterstützt durch das Kantonale Integrationsprogramm 2024-2027.\n\nhttp://www.dastroesch.ch\n\nKontakt\n\nVerfügbarkeit / Datum, Zeit\n12.6.2026 18:30 - 23:00\n\nPreis\nEintritt frei - Kosten abhängig von Konsumation. \n\n\nDas Angebot im Detail: https://www.guidle.com/angebote/1254702197/das_trosch_reist_um_die_welt_-_rumanien/kreuzlingen\nQuelle: https://www.myfarm.ch
SUMMARY:DAS TRÖSCH reist um die Welt - Rumänien
PRIORITY:5
X-MICROSOFT-CDO-IMPORTANCE:1
CLASS:PUBLIC
BEGIN:VALARM
TRIGGER:-P1D
ACTION:DISPLAY
DESCRIPTION:Reminder
END:VALARM
END:VEVENT
END:VCALENDAR