BEGIN:VCALENDAR
PRODID:-//Microsoft Corporation//Outlook 11.0 MIMEDIR//EN
VERSION:2.0
METHOD:PUBLISH
BEGIN:VEVENT
DTSTART:20260607T114500
DTEND:20260607T131500
LOCATION:Ittinger Museum, Kartause Ittingen, 8532 Warth
TRANSP:OPAQUE
SEQUENCE:0
UID:ba1fea31-d226-4bea-bbe9-f3df4c68dc46-0
DTSTAMP:20260607T114500
DESCRIPTION:Heilkräuter im mittelalterlichen Klosterleben stehen bei diesem Rundgang im Mittelpunkt. Die Führung beginnt in der Klosterkirche, um einheimische Heilkräuter und Kräuter der Mönche kennenzulernen. Was macht uns heil? Dabei wird auch die ganzheitliche Lebensführung thematisiert, die in der Klosterheilkunde wichtig war. Bei einem Spaziergang durch den Garten werden saisonale Heil- und Nutzpflanzen sowie deren Produkte verkostet, die wir heute noch „bitter nötig“ brauchen.\n\nhttps://ittingermuseum.tg.ch\n\nKontakt\nIttinger Museum\nKartause Ittingen\n8532 Warth\n058 345 10 60 (Museum)\n\nVerfügbarkeit / Datum, Zeit\n7.6.2026 11:45 - 13:15\n\nPreis\nCHF 15.00 inklusive Eintritt Museum\n\nVorverkauf\nDie Teilnehmerzahl ist auf max. 15 Personen beschränkt. Eine Anmeldung ist erforderlich.\nhttps://kunstmuseum.tg.ch/de/events/detailseite-veranstaltungen.html/7765/event/54204/eventdate/67506\n\n\nDas Angebot im Detail: https://www.guidle.com/angebote/1255180018/offentliche_fuhrung_im_ittinger_museum_was_wir_bitter_notig_haben/warth\nQuelle: https://www.myfarm.ch
SUMMARY:Öffentliche Führung im Ittinger Museum: Was wir bitter nötig haben
PRIORITY:5
X-MICROSOFT-CDO-IMPORTANCE:1
CLASS:PUBLIC
BEGIN:VALARM
TRIGGER:-P1D
ACTION:DISPLAY
DESCRIPTION:Reminder
END:VALARM
END:VEVENT
END:VCALENDAR