BEGIN:VCALENDAR
PRODID:-//Microsoft Corporation//Outlook 11.0 MIMEDIR//EN
VERSION:2.0
METHOD:PUBLISH
BEGIN:VEVENT
DTSTART:20260628T104500
DTEND:20260628T114500
LOCATION:Kartause Ittingen, 8532 Warth
TRANSP:OPAQUE
SEQUENCE:0
UID:c1860582-0ac9-4df7-815f-973be3fdde64-0
DTSTAMP:20260628T104500
DESCRIPTION:Auf der Führung durch diesen Garten erfahren Sie mehr über die Eigenschaften traditioneller Nutzpflanzen, deren Wichtigkeit in der Gegenwart und wie sie für künftige Generationen bewahrt und weitergezüchtet werden. Vor dem Hintergrund einer durchtechnisierten Food-Industrie steigt die Sehnsucht der Konsumentinnen und Konsumenten beim Essen nach Echtheit und Sinnlichkeit, nach regionaler Nähe, Tier- und Umweltschutz, nach Gesundheit und Genuss. Lange Zeit gaben sie keinen Gesprächsstoff, die guten und bewährten Sorten, die in den Gemüsegärten wuchsen und die Gemeinschaft mit gesunder, wohlschmeckender Frischkost versorgten. Doch heute, wo solche Sorten verschwinden und kaum mehr zu finden sind, werden sie zu recht vermisst.\n\nHier, im Samengarten Hortiplus Zollinger in der Kartause Ittingen, werden sie gezeigt. Diese Pflanzen sind besonders wertvoll für die Kultur im eigenen Garten.\n\nDer einstündige Rundgang findet bei jeder Witterung im Freien statt.\n\nTreffpunkt bei der Réception der Kartause Ittingen.\n\nhttps://kunstmuseum.tg.ch/de/ort.html/7729\n\nKontakt\nIttinger Museum\nKartause Ittingen\n8532 Warth\n058 345 10 60 (Museum)\n\nVerfügbarkeit / Datum, Zeit\n28.6.2026 10:45 - 11:45\n\nPreis\nEintritt frei\n\n\nDas Angebot im Detail: https://www.guidle.com/angebote/1255180102/offentliche_fuhrung_durch_den_samengarten_hortiplus/warth\nQuelle: https://www.myfarm.ch
SUMMARY:Öffentliche Führung durch den Samengarten Hortiplus
PRIORITY:5
X-MICROSOFT-CDO-IMPORTANCE:1
CLASS:PUBLIC
BEGIN:VALARM
TRIGGER:-P1D
ACTION:DISPLAY
DESCRIPTION:Reminder
END:VALARM
END:VEVENT
END:VCALENDAR