BEGIN:VCALENDAR
PRODID:-//Microsoft Corporation//Outlook 11.0 MIMEDIR//EN
VERSION:2.0
METHOD:PUBLISH
BEGIN:VEVENT
DTSTART:20260620
LOCATION:3365 Seeberg
TRANSP:OPAQUE
RRULE:FREQ=WEEKLY;INTERVAL=1;UNTIL=20260724;WKST=MO;BYDAY=MO,TU,WE,TH,FR,SA,SU
UID:62ad9521-39d9-4d7c-9a14-f8eb8ee55405-0
DTSTAMP:20260620T120000
DESCRIPTION:<b>Innenbereich</b>\n\nDer Hof liegt an ruhiger Lage am Tor zum Oberaargau. Die neu renovierte 3 1/2 Zimmer-Ferienwohnung befindet sich im 1. Stock des Bauernhauses. \n\nGrosses Schlafzimmer mit 1 Doppelbett, 1 Kleinkinderbett (für Kinder bis ca. 2 Jahren geeignet) und einem Zusatzbett nur für Kinder bis ca. 12 Jahren (+ Fr. 10.00 pro Nacht), Kinderzimmer mit zwei Einzelbetten. \n\nWichtiger Hinweis: die Ferienwohnung ist aufgrund der Bettenaufteilung für maximal 2 Erwachsene und 3 Kinder buchbar!\n\nKüche mit Abwaschmaschine, Mikrowelle, Kühlschrank mit separaten Gefrierfächern, Backofen und Kochherd, Wohnzimmer mit Esstisch, Couch und TV. Badezimmer mit begehbarer Dusche und WC. WLAN steht gratis zur Verfügung. Der zur Wohnung gehörende Sitzplatz wurde im Frühling 2024 neu erstellt und befindet sich unmittelbar beim Kinderspielplatz. Für die Kinder gibt es ein Trampolin, eine Rutschbahn und mehrere Kinderschaukeln. Unseren neuen Pool dürfen Sie natürlich auch gerne mitbenutzen. Vom Sitzplatz aus geniessen Sie einen wunderschönen Blick Richtung Jura und können unseren Angus-Rindern beim Weiden zusehen.\n\nDer nur 20 Gehminuten entfernte Burgäschisee mit seinem Naturschutzgebiet lädt zum Baden und Rudern ein. Unsere schöne, idyllische Landschaft mit Wälder und Hügeln ist ideal zum Spazieren, Wandern, Skaten, Joggen, Velofahren und Walken. Reitmöglichkeiten sind in der Umgebung ebenfalls vorhanden.\n\nAngebot auf dem Hof:\n\nWir bieten folgende Mithilfe-Möglichkeiten auf unserem Hof an:\n\n- Kühe füttern, ab 4 Jahren (Kühe sind von Frühling bis Herbst jedoch sehr viel auf der Weide)\n\n- Direkt vor der Haustüre befindet sich unser Hofladen mit einer breiten Produktepalette.\n\nFür Kinder bieten wir folgendes an:\n\n- Spielsachen\n\n- Spielplatz auf dem Hof und in der Nähe\n\n- 1 Babybett (inklusive)\n\nUnsere Tiere:\n\nAuf unserem Hof halten wir Angus-Rinder und Schweine. UnserKater Leo nimmt gerne Streicheleinheiten entgegen.\n\nSonstige Sport- und Freizeitmöglichkeiten: Unserer wunderschöne Umgebung eignet sich hervorragend zum Joggen, Walken, Spazieren, Skaten, Schwimmen, Reiten.\n\nAusflugsmöglichkeiten: Unsere Umgebung hat viele schöne Ecken. So zum Beispiel der Mutzbachgraben mit seinem Wasserfall, die erratischen Blöcke auf dem benachbarten Steinhof, der Burgäschisee mit dem Naturschutzreservat, viele Brätlistellen, schöne Spazier- und Wanderwege und vielem Mehr. Viele weitere Ausflugsziele erreichen Sie zudem mit dem Auto oder öffentlichen Verkehr in einem Umkreis von rund 30 km. Viele Ausflugsmöglichkeiten finden sie auf der Homepage von my Oberaargau und der Gemeinde Seeberg.\n\nSonstige Wohnzimmerausstattung (Wohnzimmer1): Das Wohnzimmer hat einen ausziehbaren Esstisch mit 6 Stühlen (Kinderstuhl ist vorhanden), eine Couch und einen TV mit Kabelfernsehen.\n\nSonstige Schlafzimmereinrichtung (Schlafzimmer1): Das Schlafzimmer ist sehr geräumig.\n\nSonstige Kücheneinrichtung (Küche1): Induktionskochfeld, Kaffeemaschine von Nespresso (Kapseln), kleiner Bartisch für 2 Personen\n\nSportmöglichkeiten in der Umgebung: Angeln, Eislaufen, Mountainbiking, Radtouren, Reitplatz / Reitmöglichkeiten, Rudern, Sportcenter, Tennis\n\nOrtsbeschreibung: Seeberg ist ein schmuckes kleines durch die Landwirtschaft geprägtes Dorf im Oberaargau und gehört zu der gleichnamigen Gemeinde mit insgesamt rund 1500 Einwohnern. Unsere Gäste schätzen die Ruhe und die schöne Landschaft mit Feldern, Hügeln und Wäldern und dem Burgäschisee. In unserem im 2022 neu erbauten Hofladen finden Sie viele verschiedene Produkte aus unserer Landwirtschschaft. Im Dorf (in unmittelbarer Nähe unseres Betriebes) betreibt die Landi einen Volg Lebensmittelladen, in welchem Sie ein grosses Lebensmittelangebot finden. In 7 km entfernten Herzogenbuchsee finden sie zudem nebst Coop und Migros diverse Läden.\n\nBasisinformationen\n-Erlaubte Haustiere: keins\n- Etage, auf der sich das Objekt befindet: OG1\n- letzte umfassende Renovierung: 2023\n- Nichtraucherunterkunft\n- Schlafzimmeranzahl: 2\n- Badezimmeranzahl: 1\n\nTop Merkmale\n- WLAN\n- Klimaanlage: keine\n- Heizung: teilweise\n- Terrasse\n- Garten: zur gemeinschaftlichen Nutzung\n- Outdoorpool\n- Private PKW-Stellplätze insgesamt für diese Unterkunft: 1\n- ㄴ davon private Außen­stellplätze: 1\n\nSchlafen\nim Wohnbereich\n- Schlafzimmer abdunkelbar\nSchlafzimmer 1\n- Doppelbett (1,80m Breite)\n- Kinder-/Babybett\n- Schlafzimmer abdunkelbar\nSchlafzimmer 3\n- Einzelbett\n- Einzelbett\n- Schlafzimmer abdunkelbar\n\nBadezimmer\nBadezimmer 1\n- Dusche\n- Waschbecken\n- Toilette\n- Föhn\n- Tageslicht\nGäste-WC\n- Toilette\n\nKochen/Wohnen\n- Kaffeemaschine: Kaffeemaschine\n- Kühl-/Gefrierschrank: Gefrierfach, Kühlschrank\n- Herd: Herd\n- Backofen\n- Mikrowelle\n- Spülmaschine\n- Anzahl Wohnzimmer: 1\n\nEntertainment\n- Fernseher: TV, Kabel-TV\n\nHauswirtschaft\n- Waschmaschine: zur gemeinschaftlichen Nutzung im Gebäude\n- Wäschetrockner: zur alleinigen Nutzung im Objekt\n\nAußenbereich\n- Outdoormöbel\n- Grill: Grill\n\nUmgebung\n- Aussicht: Garten, Wald, Wiese\n- nächstgelegene Ortsmitte: 14,0 km\n- Lebensmittelhandel: 300 m\n- Cafés/Restaurants: 2,0 km\n- Bahnhof: 7,0 km\n- Autobahn: 10,0 km\n- See: 3,0 km\n- Bootsverleih\n- Fahrrad-Verleih: 1 m\n\nBesonderheiten\n- Anglerfreundlich\n- Bauernhaus\n- Inmitten der Natur gelegen\n\nInklusivleistung: Bei der Buchung dieses Objekts ist eine Rücktrittversicherung enthalten. Dabei handelt es sich um ein Angebot des Reiseveranstalters Interhome. Für dieses Inklusiv-Angebot gelten folgende Bedingungen:\n\nKontakt\ne-domizil - Feriendomizile online\n+41 44 442 29 99\n\nVerfügbarkeit / Datum, Zeit\n20.6.2026 - 24.7.2026 \n8.8.2026 - 31.12.2026 \n1.1.2027 - 12.3.2027 \n12.6.2027 - 31.12.2027 \n1.1.2028 - 9.6.2028 \n\nPreis\nEndreinigung: CHF 100.00\nParkmöglichkeit: CHF 20.00\n\nVorverkauf\nhttps://myfarm.holidaybooking.ch/ferienwohnung/3359796/ferienwohnung-leinacherhof/?partner=116472000000\n\n\nDas Angebot im Detail: https://www.guidle.com/angebote/263862179/ferienwohnung_leinacherhof/seeberg\nQuelle: https://www.myfarm.ch
SUMMARY:Ferienwohnung Leinacherhof
PRIORITY:5
X-MICROSOFT-CDO-IMPORTANCE:1
CLASS:PUBLIC
BEGIN:VALARM
TRIGGER:-P1D
ACTION:DISPLAY
DESCRIPTION:Reminder
END:VALARM
END:VEVENT
END:VCALENDAR