BEGIN:VCALENDAR
PRODID:-//Microsoft Corporation//Outlook 11.0 MIMEDIR//EN
VERSION:2.0
METHOD:PUBLISH
BEGIN:VEVENT
DTSTART:20110101
LOCATION:Route d'Allières 96 La Croix de Fer, 1669 Montbovon
TRANSP:OPAQUE
RRULE:FREQ=WEEKLY;INTERVAL=1;WKST=MO;BYDAY=MO,TU,WE,TH,FR,SA,SU
UID:c49335fa-2dbf-4502-b153-746f71d9d5b8-0
DTSTAMP:20110101T120000
DESCRIPTION:Unser Hof/Herberge liegt in der schönen voralpinen Region des Hongrin. Wir bieten Mahlzeiten mit einheimischen Produkten wie Saucisson oder Ziegenkäse. Ideale Region für Wanderungen.\n\nhttp://www.lacroixdeferallieres.ch\n\nKontakt\nLa Croix de Fer\nPhilippe Roch\nRoute d'Allières 96 La Croix de Fer\n1669 Les Allières/Montbovon\n0041 (0)26 928 16 06\n0041 (0)79 822 94 60\n\nVerfügbarkeit / Datum, Zeit\n1.1.2011 -  \n\nPreis\nPREIS PRO PERSON / NACHT INKL. FRÜHSTÜCK\nHauptsaison Sommer: CHF 60\nNebensaison Sommer: CHF 60\nHauptsaison Winter: CHF 60\nNebensaison Winter: CHF 60\n\n\nDas Angebot im Detail: https://www.guidle.com/angebote/337482344/la_croix_de_fer_schlafen_im_stroh/montbovon\nQuelle: https://www.myfarm.ch
SUMMARY:La Croix de Fer: Schlafen im Stroh
PRIORITY:5
X-MICROSOFT-CDO-IMPORTANCE:1
CLASS:PUBLIC
BEGIN:VALARM
TRIGGER:-P1D
ACTION:DISPLAY
DESCRIPTION:Reminder
END:VALARM
END:VEVENT
END:VCALENDAR