BEGIN:VCALENDAR
PRODID:-//Microsoft Corporation//Outlook 11.0 MIMEDIR//EN
VERSION:2.0
METHOD:PUBLISH
BEGIN:VEVENT
DTSTART:20110101
LOCATION:Montpelon, 4716 Gänsbrunnen
TRANSP:OPAQUE
RRULE:FREQ=WEEKLY;INTERVAL=1;WKST=MO;BYDAY=MO,TU,WE,TH,FR,SA,SU
UID:0c19cfa4-9b6f-4fc4-b14c-e7fa7d9baf0c-0
DTSTAMP:20110101T120000
DESCRIPTION:Unser Matratzenlager im sogenannten «Spycher» bietet Ihnen zwei Räume. Eine Räumlichkeit bietet 4 Schlafplätze in Form von zwei Hochbetten und eine Sitzmöglichkeit mit Tisch. Der zweite Raum bietet Platz für 6 Personen. Das Stöckli hat ein eigenes, kleines Badezimmer mit WC und Dusche und einen kleinen Vorraum mit Verstauungsmöglichkeiten.\n\nDas Stöckli eignet sich auch optimal für Familien, da die Kinder oder dann doch eher die Eltern von einem eigenen Zimmer profitieren können. \n\nKontakt\nBerghof Montpelon\nBerghof Montpelon 28\n4716 Gänsbrunnen\n0041 (0)32 639 13 03\n\nVerfügbarkeit / Datum, Zeit\n1.1.2011 -  \n\nPreis\nPreis pro Nacht und Person\nCHF 40.00 inklusive Frühstück\n\n\nDas Angebot im Detail: https://www.guidle.com/angebote/337485956/matratzenlager_spycher/gansbrunnen\nQuelle: https://www.myfarm.ch
SUMMARY:Matratzenlager Spycher
PRIORITY:5
X-MICROSOFT-CDO-IMPORTANCE:1
CLASS:PUBLIC
BEGIN:VALARM
TRIGGER:-P1D
ACTION:DISPLAY
DESCRIPTION:Reminder
END:VALARM
END:VEVENT
END:VCALENDAR