BEGIN:VCALENDAR
PRODID:-//Microsoft Corporation//Outlook 11.0 MIMEDIR//EN
VERSION:2.0
METHOD:PUBLISH
BEGIN:VEVENT
DTSTART:20260422T120000
LOCATION:Muntàda 38, 6981 Banco
TRANSP:OPAQUE
RRULE:FREQ=DAILY;INTERVAL=1
UID:b1aa5ccc-4e99-42a8-af5f-bf62f3106a4c-0
DTSTAMP:20260422T120000
DESCRIPTION:Produkte des Unternehmens\n\n\nHinweis: Dieser Text wurde von einer Software für maschinelle Übersetzungen und nicht von einem menschlichen Übersetzer übersetzt. Er kann Übersetzungsfehler aufweisen.\n\nKontakt\nAzienda Agricola Rampiga\nMonica Giandeini\nMuntàda 38\n6981 Banco\n+41 79 285 55 86\n\n16-18 jeden Tag (365)\n\n\nDas Angebot im Detail: https://www.guidle.com/angebote/342100342/hofladen_azienda_agricola_rampiga/banco\nQuelle: https://www.myfarm.ch
SUMMARY:Hofladen Azienda Agricola Rampiga
PRIORITY:5
X-MICROSOFT-CDO-IMPORTANCE:1
CLASS:PUBLIC
BEGIN:VALARM
TRIGGER:-P1D
ACTION:DISPLAY
DESCRIPTION:Reminder
END:VALARM
END:VEVENT
END:VCALENDAR