BEGIN:VCALENDAR
PRODID:-//Microsoft Corporation//Outlook 11.0 MIMEDIR//EN
VERSION:2.0
METHOD:PUBLISH
BEGIN:VEVENT
DTSTART:20260425T120000
LOCATION:Paplemont 7, 2952 Cornol
TRANSP:OPAQUE
RRULE:FREQ=DAILY;INTERVAL=1
UID:c3cab532-b3c1-4520-8ad0-0911009a59a2-0
DTSTAMP:20260425T120000
DESCRIPTION:2003 übernahmen Frédy und Lydia Schneider den 6 Hektar großen Obstanbauteil des alten landwirtschaftlichen Anwesens in Ajoie, das in Paplemont auf etwa 500 Metern Höhe liegt. Nur 7 Kilometer von Porrentruy entfernt, sind die Obstgärten von der Autobahnausfahrt (Cornol/Courgenay) aus schnell zu erreichen. Neben verschiedenen Branntweinen und Honig verkaufen die beiden Obstbauern eine große Auswahl an Saisonfrüchten auf den Märkten von Porrentruy und Delémont und liefern auch nach außerhalb.\n\n\nHinweis: Dieser Text wurde von einer Software für maschinelle Übersetzungen und nicht von einem menschlichen Übersetzer übersetzt. Er kann Übersetzungsfehler aufweisen.\n\nhttp://www.terroir-juraregion.ch\n\nKontakt\nLes Vergers de Paplemont\nFrédy & Lydia Schneider\nPaplemont 7\n2952 Cornol\n032 471 28 21\n\n\nDas Angebot im Detail: https://www.guidle.com/angebote/344103520/hofladen_les_vergers_de_paplemont/cornol\nQuelle: https://www.myfarm.ch
SUMMARY:Hofladen Les Vergers de Paplemont
PRIORITY:5
X-MICROSOFT-CDO-IMPORTANCE:1
CLASS:PUBLIC
BEGIN:VALARM
TRIGGER:-P1D
ACTION:DISPLAY
DESCRIPTION:Reminder
END:VALARM
END:VEVENT
END:VCALENDAR