BEGIN:VCALENDAR
PRODID:-//Microsoft Corporation//Outlook 11.0 MIMEDIR//EN
VERSION:2.0
METHOD:PUBLISH
BEGIN:VEVENT
DTSTART:20260419T120000
LOCATION:Route de Rombuet 148, 1616 Attalens
TRANSP:OPAQUE
RRULE:FREQ=DAILY;INTERVAL=1
UID:5c42df41-ad5b-40a0-a718-bc3e7249ad61-0
DTSTAMP:20260419T120000
DESCRIPTION:Self-Fruits Perroud entstand aus einem traditionellen Bauernhof mit einer Milchkuhherde und einer Mutterkuhherde (Kalb unter der Mutter).\n\nVor mehr als 20 Jahren kam uns die Idee, in einer Ecke des Gartens Himbeeren anzupflanzen, und nach und nach kamen Rhabarber, Johannisbeeren, Brombeeren, Pflaumen, Salate, Gemüse, Tomaten, Kartoffeln und Kürbisse hinzu.\n\nAll diese saisonalen Produkte können Sie selbst pflücken.\n\n\nHinweis: Dieser Text wurde von einer Software für maschinelle Übersetzungen und nicht von einem menschlichen Übersetzer übersetzt. Er kann Übersetzungsfehler aufweisen.\n\nhttp://www.selffruitsperroud.ch\n\nKontakt\nSelf-Fruits Perroud\nJean-Bernhard & Daniel Perroud\nRoute de Rombuet 148\n1616 Attalens\n021 947 42 41\n079 660 33 65\n\nWährend der Saison ist das Obst in Selbstbedienung.\nDamit Sie sich nicht unnötig bewegen müssen,\nschauen Sie sich diese Seite an oder\nrufen Sie diese Nummer an 079 660 33 65\num sich die Fahrpläne sowie die Tagesinformationen anzuhören.\n\n\nDas Angebot im Detail: https://www.guidle.com/angebote/344103849/hofladen_self-fruits_perroud/attalens\nQuelle: https://www.myfarm.ch
SUMMARY:Hofladen Self-Fruits Perroud
PRIORITY:5
X-MICROSOFT-CDO-IMPORTANCE:1
CLASS:PUBLIC
BEGIN:VALARM
TRIGGER:-P1D
ACTION:DISPLAY
DESCRIPTION:Reminder
END:VALARM
END:VEVENT
END:VCALENDAR