BEGIN:VCALENDAR
PRODID:-//Microsoft Corporation//Outlook 11.0 MIMEDIR//EN
VERSION:2.0
METHOD:PUBLISH
BEGIN:VEVENT
DTSTART:20260424T120000
LOCATION:Galsbach 62, 4938 Rohrbachgraben
TRANSP:OPAQUE
RRULE:FREQ=DAILY;INTERVAL=1
UID:d8320802-a8a5-4101-8cb5-c2a8d1b98512-0
DTSTAMP:20260424T120000
DESCRIPTION:Unser Hof liegt inmitten grüner Hügel am Rande des Emmentals, neben dem ländlichen Städtchen Huttwil. Die Aussicht auf die Alpenkette und gegenüber die traumhaften Sonnenuntergänge über dem Jura lassen so manchen Besucher träumen. Zu unseren grossen Lieblingen gehören rund 10 Mutterkühe mit ihren Kälbern, ein Stier und unsere beiden Pferde Lolipierre und Nikita. Im Hühnerhof warten ein Paar Streifengänse auf Zuwachs von einem Entenpaar und einer Gruppe Seidenhühner. Wir freuen uns schon jetzt auf ein munteres Gequacke! Über all diesen grösseren und kleineren Tieren wacht unsere liebe und verspielte Schäferhündin Luna, die sich immer über Abwechslung und ganz viele Streicheleinheiten freut.\n\nhttp://www.sommer-hof.ch\n\nKontakt\nSommerhof\nKarin & Herbert Sommer & Hafner\nGalsbach 62\n4938 Rohrbachgraben\n062 968 01 84\n078 738 81 61\n\n\nDas Angebot im Detail: https://www.guidle.com/angebote/344103896/hofladen_sommerhof/rohrbachgraben\nQuelle: https://www.myfarm.ch
SUMMARY:Hofladen Sommerhof
PRIORITY:5
X-MICROSOFT-CDO-IMPORTANCE:1
CLASS:PUBLIC
BEGIN:VALARM
TRIGGER:-P1D
ACTION:DISPLAY
DESCRIPTION:Reminder
END:VALARM
END:VEVENT
END:VCALENDAR