BEGIN:VCALENDAR
PRODID:-//Microsoft Corporation//Outlook 11.0 MIMEDIR//EN
VERSION:2.0
METHOD:PUBLISH
BEGIN:VEVENT
DTSTART:20110101
LOCATION:Bieu 25, 3995 Ernen
TRANSP:OPAQUE
RRULE:FREQ=WEEKLY;INTERVAL=1;WKST=MO;BYDAY=MO,TU,WE,TH,FR,SA,SU
UID:9e378728-3e83-4006-ac55-60decf5ce4d2-0
DTSTAMP:20110101T120000
DESCRIPTION:Die neu renovierten Gästezimmer in unserem Wohnhaus, mitten im historischen Ernen, bieten Platz für vier Personen. Ein kleines DZ mit Grandlit und ein Studio mit zwei Betten und Küche stehen zu Ihrer Verfügung. Dusche/WC befinden sich zur gemeinschaftlichen Benützung der beiden Zimmer, auf dem Flur. Beide Zimmer mit TV/Radio, WLAN.\n\nhttps://berglandhof.ch\n\nKontakt\nBergland Produkte\nRuedi Schweizer\nBieu 25\n3995 Ernen\n0041 (0)27 971 23 60\n0041 (0)27 971 23 20\n\nVerfügbarkeit / Datum, Zeit\n1.1.2011 -  \n\nPreis\nPreis für 2 Per. inkl. Frühstück und Kurtaxe\nPreis bei Einzelbelegung CHF 128.50 / Nacht\n\nVorverkauf\nwww.berglandhof.ch/ferienarrangements/bnb-chez-pia/\n\n\nDas Angebot im Detail: https://www.guidle.com/angebote/526384670/bnb_chez_pia_studio_mit_kuche_zwei_einzelbetten/ernen\nQuelle: https://www.myfarm.ch
SUMMARY:BnB "Chez Pia": Studio mit Küche, zwei Einzelbetten
PRIORITY:5
X-MICROSOFT-CDO-IMPORTANCE:1
CLASS:PUBLIC
BEGIN:VALARM
TRIGGER:-P1D
ACTION:DISPLAY
DESCRIPTION:Reminder
END:VALARM
END:VEVENT
END:VCALENDAR