BEGIN:VCALENDAR
PRODID:-//Microsoft Corporation//Outlook 11.0 MIMEDIR//EN
VERSION:2.0
METHOD:PUBLISH
BEGIN:VEVENT
DTSTART:20260423T120000
LOCATION:Via Lucomagno 36, 6715 Dongio
TRANSP:OPAQUE
RRULE:FREQ=DAILY;INTERVAL=1
UID:59f921de-a418-4399-9c7f-7a383361a7f1-0
DTSTAMP:20260423T120000
DESCRIPTION:\n\nhttps://www.stalla.ch\n\nKontakt\nAzienda agricola Bisacca\nTanja & Andrea Bisacca\nVia Lucomagno 36\n6715 Dongio\n079 663 83 20\n079 428 85 12\n\n24/7\n\n\nDas Angebot im Detail: https://www.guidle.com/angebote/536597785/hofladen_bauernhof_bisacca/dongio\nQuelle: https://www.myfarm.ch
SUMMARY:Hofladen Bauernhof Bisacca
PRIORITY:5
X-MICROSOFT-CDO-IMPORTANCE:1
CLASS:PUBLIC
BEGIN:VALARM
TRIGGER:-P1D
ACTION:DISPLAY
DESCRIPTION:Reminder
END:VALARM
END:VEVENT
END:VCALENDAR