BEGIN:VCALENDAR
PRODID:-//Microsoft Corporation//Outlook 11.0 MIMEDIR//EN
VERSION:2.0
METHOD:PUBLISH
BEGIN:VEVENT
DTSTART:20110101
LOCATION:Hof Wyss Hintertann Hintertann, 6315 Oberägeri
TRANSP:OPAQUE
RRULE:FREQ=WEEKLY;INTERVAL=1;WKST=MO;BYDAY=MO,TU,WE,TH,FR,SA,SU
UID:f981cebf-d96c-44c7-a096-f1c5eb264209-0
DTSTAMP:20110101T120000
DESCRIPTION:Im «alten Stall» finden 15 - 20 Personen kostengünstig einen kuscheligen Schlafplatz im Stroh. Im selben Raum können weitere 12 Personen auf Stockbetten schlafen. Der ehemalige Kuhstall eignet sich in der warmen Jahreszeit gut für grosse Gruppen. Im neuen Anbau gibt es auch moderne Doppel- und Familienzimmer mit wunderbarer Aussicht ins Grüne. Da kann man ideal die heikle Grosstante, das Hochzeitspaar und die lautesten Schnarcher einquartieren. \n\nKontakt\nHof Hintertann\nAndrea & Franz-Josef Wyss-Iten\nHintertann\n6315 Oberägeri\n041 750 60 20\n\nVerfügbarkeit / Datum, Zeit\n1.1.2011 -  \n\njeweils von Mai bis Oktober verfügbar, auf Anfrage\n\nPreis\nKinder: CHF 14.00 / Nacht (inkl. Frühstück)\n\n\nDas Angebot im Detail: https://www.guidle.com/angebote/558648088/hof_hintertann_schlafen_im_stroh/oberageri\nQuelle: https://www.myfarm.ch
SUMMARY:Hof Hintertann: Schlafen im Stroh
PRIORITY:5
X-MICROSOFT-CDO-IMPORTANCE:1
CLASS:PUBLIC
BEGIN:VALARM
TRIGGER:-P1D
ACTION:DISPLAY
DESCRIPTION:Reminder
END:VALARM
END:VEVENT
END:VCALENDAR