BEGIN:VCALENDAR
PRODID:-//Microsoft Corporation//Outlook 11.0 MIMEDIR//EN
VERSION:2.0
METHOD:PUBLISH
BEGIN:VEVENT
DTSTART:20260420
LOCATION:Wydhof 2, 8416 Flaach
TRANSP:OPAQUE
RRULE:FREQ=WEEKLY;INTERVAL=1;UNTIL=20260428;WKST=MO;BYDAY=MO,TU,WE,TH,FR,SA,SU
UID:404be4f4-c987-424e-b7c5-36b9d5814f01-0
DTSTAMP:20260420T120000
DESCRIPTION:Dem Alltag entfliehen und erholsame und entspannte Tage geniessen auf unserem Bauernhof im Zürcher Wyland, in unmittelbarer Nähe der nationalen Rhein-Veloroute Nr. 2 und des Naturzentrums Thurauen. Die faszinierende Welt einer lebendigen Auenlandschaft liegt direkt vor unserer Haustür. Wir lieben es, die natürliche und prachtvolle Umgebung mit dir als Gast zu teilen und dir einen Einblick in die Landwirtschaft zu geben. Als Gastgeberin liegt mir das Wohlergehen unserer Gäste am Herzen und zufriedene Gäste machen mich glücklich!\n Für unsere Gäste haben wir bereit: \n- ein Doppelzimmer mit Zusatzbett für 3 Personen\n- ein Mehrbettzimmer mit Zusatzbett für 6 - 7 Personen\n- ein Mehrbettzimmer mit Zusatzbetten für 4 - 6 Personen\n- ein Mehrbettzimmer für 6 Personen\n- schlafen im Stroh für 6 - 8 Personen\n- Aufenthalts-/Essraum mit Küche\n- Sanitäre Anlagen\nDie verschiedenen Angebote können sowohl einzeln als auch kombiniert gebucht werden. \n\n\nhttps://www.wydhof.ch\n\nKontakt\nWydhof\nErnst & Madeleine Bachmann\nWydhof 2\n8416 Flaach\n0041 (0)52 318 22 56\n0041 (0)78 626 97 90\n\nVerfügbarkeit / Datum, Zeit\n20.4.2026 - 28.4.2026 \n4.5.2026 - 8.5.2026  Mo, Di, Mi, Do, Fr\n11.5.202611.5.2026  Mo\n14.5.2026 - 4.6.2026 \n10.6.202610.6.2026  Mi\n13.6.2026 - 14.6.2026  Sa, So\n18.6.202618.6.2026  Do\n20.6.2026 - 24.6.2026  Mo, Di, Mi, Sa, So\n27.6.2026 - 5.7.2026 \n10.7.2026 - 25.7.2026 \n4.8.2026 - 27.8.2026 \n31.8.2026 - 10.9.2026 \n14.9.2026 - 20.9.2026 \n26.9.2026 -  \n\nPreis\nKosten pro Nacht und Person inkl. Frühstück:\nDoppelzimmer CHF 68.00/Erwachsene, CHF 48.00/Kind/Jugendliche 2 - 16 Jahre oder 3. Person\nMehrbettzimmer CHF 58.00/Erwachsene, CHF 48.00/Kind/Jugendliche 12 - 16 Jahre\nDie Mehrbettzimmer können mit eigenem Schlafsack gebucht werden (Preisreduktion CHF 14.00 pro Person)\nStrohlager CHF 42.00/Erwachsene, CHF 32.00/Kind/Jugendliche 2 -16 Jahre\nKleinkinder bis 2 Jahre im Bett der Eltern sind kostenlos\n\n\n\nDas Angebot im Detail: https://www.guidle.com/angebote/564494296/wydhof_gastehaus_fur_gruppen_und_familien/flaach\nQuelle: https://www.myfarm.ch
SUMMARY:Wydhof: Gästehaus für Gruppen und Familien
PRIORITY:5
X-MICROSOFT-CDO-IMPORTANCE:1
CLASS:PUBLIC
BEGIN:VALARM
TRIGGER:-P1D
ACTION:DISPLAY
DESCRIPTION:Reminder
END:VALARM
END:VEVENT
END:VCALENDAR