BEGIN:VCALENDAR
PRODID:-//Microsoft Corporation//Outlook 11.0 MIMEDIR//EN
VERSION:2.0
METHOD:PUBLISH
BEGIN:VEVENT
DTSTART:20110101
LOCATION:Bauernhof Zelglihof Zelglihof, 8272 Ermatingen
TRANSP:OPAQUE
RRULE:FREQ=WEEKLY;INTERVAL=1;WKST=MO;BYDAY=MO,TU,WE,TH,FR,SA,SU
UID:b77dc7ac-dffb-4f35-a8e0-e9925805e068-0
DTSTAMP:20110101T120000
DESCRIPTION:Das Angebot kann mit oder ohne Frühstück gebucht werden.Die sanitären Anlagen sind neben dem Aufenthaltsraum unter der Ferienwohnung untergebracht. Es steht für Familien und Vereine eine gut eingerichtete Küche zum Kochen und ein Grill zur Verfügung. Auf besonderen Wunsch bieten wir auch einfaches Nachtessen für Schulklassen und grössere Gruppen an. \n Für Kinder gibt es genügend Spielmöglichkeiten von Tischtennis, Trettraktoren, Fussballtor, etc. Auch dürfen unsere Hasen, Schweine und Ziegen im Streichelzoo gerne besucht werden.\n\nhttps://www.gruppenhaus.ch/de/haus/bauernhof/zelglihof/978\n\nKontakt\nPascal Kreis\nHüttenwart\nZelglihof\n8272 Ermatingen\n0796906025\n0716642563\n\nVerfügbarkeit / Datum, Zeit\n1.1.2011 -  \n\nSaison von April bis Oktober\n\nPreis\n Übernachtung mit Frühstück                            sFr. 25.-                                pro Nacht\nKinder 3 - 12 Jachre (bis 3 Jahre gratis)         sFr. 15.-                                pro Nacht\nnur Übernachtung Erwachsene                        sFr. 15.-                                pro Nacht\nKinder                                                                    sFr. 10.-                                pro Nacht \n\n\nDas Angebot im Detail: https://www.guidle.com/angebote/619323003/zelglihof_schlafen_im_stroh/ermatingen\nQuelle: https://www.myfarm.ch
SUMMARY:Zelglihof: Schlafen im Stroh
PRIORITY:5
X-MICROSOFT-CDO-IMPORTANCE:1
CLASS:PUBLIC
BEGIN:VALARM
TRIGGER:-P1D
ACTION:DISPLAY
DESCRIPTION:Reminder
END:VALARM
END:VEVENT
END:VCALENDAR