BEGIN:VCALENDAR
PRODID:-//Microsoft Corporation//Outlook 11.0 MIMEDIR//EN
VERSION:2.0
METHOD:PUBLISH
BEGIN:VEVENT
DTSTART:20260423T120000
LOCATION:Pedemonte 6, 6715 Dongio
TRANSP:OPAQUE
RRULE:FREQ=DAILY;INTERVAL=1
UID:416c659a-da38-4490-a053-367e106025cb-0
DTSTAMP:20260423T120000
DESCRIPTION:\n\nhttp://aziendamaroni.vallediblenio.ch\n\nKontakt\nAzienda Maroni\nRoland Maroni\nPedemonte 6\n6715 Dongio\n+41 78 809 95 35\n+41 79 329 64 92\n\n\nDas Angebot im Detail: https://www.guidle.com/angebote/646133217/hofladen_azienda_maroni/dongio\nQuelle: https://www.myfarm.ch
SUMMARY:Hofladen Azienda Maroni
PRIORITY:5
X-MICROSOFT-CDO-IMPORTANCE:1
CLASS:PUBLIC
BEGIN:VALARM
TRIGGER:-P1D
ACTION:DISPLAY
DESCRIPTION:Reminder
END:VALARM
END:VEVENT
END:VCALENDAR