BEGIN:VCALENDAR
PRODID:-//Microsoft Corporation//Outlook 11.0 MIMEDIR//EN
VERSION:2.0
METHOD:PUBLISH
BEGIN:VEVENT
DTSTART:20260425T120000
LOCATION:Avenue Jean-Paul II 7, 1752 Villars-sur-Glâne
TRANSP:OPAQUE
RRULE:FREQ=DAILY;INTERVAL=1
UID:7353e692-f975-4d91-91f4-6c34acc0f4a7-0
DTSTAMP:20260425T120000
DESCRIPTION:We offer daily fresh raw milk from the farm.\n\n\nNote: This text was translated by machine translation software and not by a human translator. It may contain translation errors.\n\nhttp://www.ferme-bertigny.ch\n\nKontakt\nBertigny\nRaphael & Marius Rudaz\nAvenue Jean-Paul II 7\n1752 Villars-sur-Glâne\n079 259 11 92\n\n24/7\n\n\nDas Angebot im Detail: https://www.guidle.com/angebote/646133601/bertigny_farm_store/villars-sur-glane\nQuelle: https://www.myfarm.ch
SUMMARY:Bertigny farm store
PRIORITY:5
X-MICROSOFT-CDO-IMPORTANCE:1
CLASS:PUBLIC
BEGIN:VALARM
TRIGGER:-P1D
ACTION:DISPLAY
DESCRIPTION:Reminder
END:VALARM
END:VEVENT
END:VCALENDAR