BEGIN:VCALENDAR
PRODID:-//Microsoft Corporation//Outlook 11.0 MIMEDIR//EN
VERSION:2.0
METHOD:PUBLISH
BEGIN:VEVENT
DTSTART:20260419T120000
LOCATION:Bächigen 249, 9200 Gossau SG
TRANSP:OPAQUE
RRULE:FREQ=DAILY;INTERVAL=1
UID:93b50a1c-cd2a-4283-9add-309248644c89-0
DTSTAMP:20260419T120000
DESCRIPTION:Konfis, Honig, Eier, Sirup, Chutneys, Essiggurken, süss-saures, Aepfel, Kartoffeln, Glace, Süssmost usv.\nIm Oktober riesige Kürbisausstellung mit über 180 Sorten\n\nhttp://www.kuerbishofrohner.ch\n\nKontakt\nKürbishof Rohner\nSilvia & Bruno Rohner\nBächigen 249\n9200 Gossau SG\n+41 79 537 03 01\n\nSelbstbedienungs-Hoflädeli 24h offen\n\n\nDas Angebot im Detail: https://www.guidle.com/angebote/646138107/hofladen_kurbishof_rohner/gossau_sg\nQuelle: https://www.myfarm.ch
SUMMARY:Hofladen Kürbishof Rohner
PRIORITY:5
X-MICROSOFT-CDO-IMPORTANCE:1
CLASS:PUBLIC
BEGIN:VALARM
TRIGGER:-P1D
ACTION:DISPLAY
DESCRIPTION:Reminder
END:VALARM
END:VEVENT
END:VCALENDAR