BEGIN:VCALENDAR
PRODID:-//Microsoft Corporation//Outlook 11.0 MIMEDIR//EN
VERSION:2.0
METHOD:PUBLISH
BEGIN:VEVENT
DTSTART:20260423T120000
LOCATION:Via Caraa 20, 6525 Gnosca
TRANSP:OPAQUE
RRULE:FREQ=DAILY;INTERVAL=1
UID:59680107-ce7e-4150-8a22-24805d7b45a3-0
DTSTAMP:20260423T120000
DESCRIPTION:Family farm with goat and sheep breeding and goat cheese production\n\n\nNote: This text was translated by machine translation software and not by a human translator. It may contain translation errors.\n\nKontakt\nAzienda agricola Pedroia\nPatrizio Pedroia\nVia Caraa 20\n6525 Gnosca\n079 926 22 35\n\n\nDas Angebot im Detail: https://www.guidle.com/angebote/646139318/store_on_farm_pedroia_farm/gnosca\nQuelle: https://www.myfarm.ch
SUMMARY:Store on farm Pedroia farm
PRIORITY:5
X-MICROSOFT-CDO-IMPORTANCE:1
CLASS:PUBLIC
BEGIN:VALARM
TRIGGER:-P1D
ACTION:DISPLAY
DESCRIPTION:Reminder
END:VALARM
END:VEVENT
END:VCALENDAR