BEGIN:VCALENDAR
PRODID:-//Microsoft Corporation//Outlook 11.0 MIMEDIR//EN
VERSION:2.0
METHOD:PUBLISH
BEGIN:VEVENT
DTSTART:20260424T120000
LOCATION:Chemin des Mattines 21, 1258 Perly
TRANSP:OPAQUE
RRULE:FREQ=DAILY;INTERVAL=1
UID:8774333c-4264-4073-8e18-b3d975c7b862-0
DTSTAMP:20260424T120000
DESCRIPTION:Innovation aus dem Terroir seit 6 Generationen\n\nAls Gemüsegärtner in Genf seit 1814 bieten wir Ihnen erstklassiges Gemüse an. Wir verbinden Tradition und Innovation, um Ihnen das ganze Jahr über einen unvergleichlichen Geschmack und Frische zu bieten und gleichzeitig die weltweit höchsten Anforderungen der Schweizer Landwirtschaft zu erfüllen.\n\nUnser Hauptprodukt ist die Tomate, wir bauen über zwanzig verschiedene Sorten an, lose oder an der Rispe, in verschiedenen Formen, Farben, Texturen und Genüssen! Wir produzieren auch das ganze Jahr über aeroponischen Salat sowie andere unterirdische Gemüsesorten wie Auberginen, Paprika und Gurken.\n\nSie finden unser Gemüse in den meisten Lebensmittelgeschäften des Kantons sowie das gesamte Sortiment in unserem Direktverkauf: Le Marché des Mattines.\n\nWir, die Umwelt und Ihre Gesundheit danken Ihnen für Ihren lokalen Konsum!\n\n\nHinweis: Dieser Text wurde von einer Software für maschinelle Übersetzungen und nicht von einem menschlichen Übersetzer übersetzt. Er kann Übersetzungsfehler aufweisen.\n\nhttp://www.mattines.ch\n\nKontakt\nDomaine des Mattines\nDomaine des Mattines\nChemin des Mattines 21\n1258 Perly\n078 901 16 10\n\nDienstag - Freitag: 9:00 - 18:00\nSamstag: 9:00 - 17:00\nMontag geschlossen\n\n\nDas Angebot im Detail: https://www.guidle.com/angebote/646139955/hofladen_domaine_des_mattines/perly\nQuelle: https://www.myfarm.ch
SUMMARY:Hofladen Domaine des Mattines
PRIORITY:5
X-MICROSOFT-CDO-IMPORTANCE:1
CLASS:PUBLIC
BEGIN:VALARM
TRIGGER:-P1D
ACTION:DISPLAY
DESCRIPTION:Reminder
END:VALARM
END:VEVENT
END:VCALENDAR