BEGIN:VCALENDAR
PRODID:-//Microsoft Corporation//Outlook 11.0 MIMEDIR//EN
VERSION:2.0
METHOD:PUBLISH
BEGIN:VEVENT
DTSTART:20260422T120000
LOCATION:Via alla Chiesa 38, 6515 Gudo
TRANSP:OPAQUE
RRULE:FREQ=DAILY;INTERVAL=1
UID:9680cff2-aed1-472f-940e-b2b8e1644aa6-0
DTSTAMP:20260422T120000
DESCRIPTION:Ein landwirtschaftlicher Betrieb, der Fleisch aus eigenem Anbau produziert und verkauft. Ein Qualitätsprodukt, das durch das GQ-Carne-Gütesiegel anerkannt ist.\nEr ist auch an der Produktion und dem Verkauf von Tessiner Wurstwaren beteiligt.\nJeden Samstag sind wir auf dem Markt in Bellinzona präsent.\n\n\nHinweis: Dieser Text wurde von einer Software für maschinelle Übersetzungen und nicht von einem menschlichen Übersetzer übersetzt. Er kann Übersetzungsfehler aufweisen.\n\nKontakt\nAzienda Agricola Marco Scolari\nMarco Scolari\nVia alla Chiesa 38\n6515 Gudo\n079 728 64 75\n\n\nDas Angebot im Detail: https://www.guidle.com/angebote/646145503/hofladen_azienda_agricola_marco_scolari/gudo\nQuelle: https://www.myfarm.ch
SUMMARY:Hofladen Azienda Agricola Marco Scolari
PRIORITY:5
X-MICROSOFT-CDO-IMPORTANCE:1
CLASS:PUBLIC
BEGIN:VALARM
TRIGGER:-P1D
ACTION:DISPLAY
DESCRIPTION:Reminder
END:VALARM
END:VEVENT
END:VCALENDAR