BEGIN:VCALENDAR
PRODID:-//Microsoft Corporation//Outlook 11.0 MIMEDIR//EN
VERSION:2.0
METHOD:PUBLISH
BEGIN:VEVENT
DTSTART:20260422T120000
LOCATION:Via Lucomagno 61, 6715 Dongio
TRANSP:OPAQUE
RRULE:FREQ=DAILY;INTERVAL=1
UID:59ee0de1-9ecb-41ac-b9c2-1ccda02e2ae2-0
DTSTAMP:20260422T120000
DESCRIPTION:\n\nKontakt\nAzienda Agricola Monico\nMirjam Monico\nvia Lucomagno 61\n6715 Dongio\n091 871 14 77\n\n\nDas Angebot im Detail: https://www.guidle.com/angebote/646147496/hofladen_azienda_agricola_monico/dongio\nQuelle: https://www.myfarm.ch
SUMMARY:Hofladen Azienda Agricola Monico
PRIORITY:5
X-MICROSOFT-CDO-IMPORTANCE:1
CLASS:PUBLIC
BEGIN:VALARM
TRIGGER:-P1D
ACTION:DISPLAY
DESCRIPTION:Reminder
END:VALARM
END:VEVENT
END:VCALENDAR